BEGIN:VCALENDAR
VERSION:2.0
PRODID:-//Nutfield Church Primary School - ECPv5.16.4//NONSGML v1.0//EN
CALSCALE:GREGORIAN
METHOD:PUBLISH
X-WR-CALNAME:Nutfield Church Primary School
X-ORIGINAL-URL:https://nutfieldchurchprimary.co.uk
X-WR-CALDESC:Events for Nutfield Church Primary School
REFRESH-INTERVAL;VALUE=DURATION:PT1H
X-Robots-Tag:noindex
X-PUBLISHED-TTL:PT1H
BEGIN:VTIMEZONE
TZID:UTC
BEGIN:STANDARD
TZOFFSETFROM:+0000
TZOFFSETTO:+0000
TZNAME:UTC
DTSTART:20240101T000000
END:STANDARD
END:VTIMEZONE
BEGIN:VEVENT
DTSTART;VALUE=DATE:20240221
DTEND;VALUE=DATE:20240222
DTSTAMP:20260424T192639
CREATED:20231023T081540Z
LAST-MODIFIED:20231023T081540Z
UID:16405-1708473600-1708559999@nutfieldchurchprimary.co.uk
SUMMARY:PTFA Bags2School Collection Wednesday 21st February
DESCRIPTION:PTFA Bags2School Collection Wednesday 21st February
URL:https://nutfieldchurchprimary.co.uk/event/ptfa-bags2school-collection-wednesday-21st-february/
END:VEVENT
BEGIN:VEVENT
DTSTART;VALUE=DATE:20240221
DTEND;VALUE=DATE:20240222
DTSTAMP:20260424T192639
CREATED:20240115T113352Z
LAST-MODIFIED:20240115T113352Z
UID:17698-1708473600-1708559999@nutfieldchurchprimary.co.uk
SUMMARY:Wellbeing Wednesday (Yr 6)
DESCRIPTION:Wellbeing Wednesday (Yr 6)
URL:https://nutfieldchurchprimary.co.uk/event/wellbeing-wednesday-yr-6/
END:VEVENT
END:VCALENDAR