BEGIN:VCALENDAR
VERSION:2.0
PRODID:-//Nutfield Church Primary School - ECPv5.16.4//NONSGML v1.0//EN
CALSCALE:GREGORIAN
METHOD:PUBLISH
X-ORIGINAL-URL:https://nutfieldchurchprimary.co.uk
X-WR-CALDESC:Events for Nutfield Church Primary School
REFRESH-INTERVAL;VALUE=DURATION:PT1H
X-Robots-Tag:noindex
X-PUBLISHED-TTL:PT1H
BEGIN:VTIMEZONE
TZID:UTC
BEGIN:STANDARD
TZOFFSETFROM:+0000
TZOFFSETTO:+0000
TZNAME:UTC
DTSTART:20240101T000000
END:STANDARD
END:VTIMEZONE
BEGIN:VEVENT
DTSTART;VALUE=DATE:20240223
DTEND;VALUE=DATE:20240224
DTSTAMP:20260424T162702
CREATED:20231023T081552Z
LAST-MODIFIED:20231023T081552Z
UID:16407-1708646400-1708732799@nutfieldchurchprimary.co.uk
SUMMARY:PTFA KS1 Disco (Yrs R-2) Friday 23rd February – 16.00pm-17.00pm
DESCRIPTION:PTFA KS1 Disco (Yrs R-2) Friday 23rd February – 16.00pm-17.00pm
URL:https://nutfieldchurchprimary.co.uk/event/ptfa-ks1-disco-yrs-r-2-friday-23rd-february-16-00pm-17-00pm/
END:VEVENT
BEGIN:VEVENT
DTSTART;VALUE=DATE:20240223
DTEND;VALUE=DATE:20240224
DTSTAMP:20260424T162702
CREATED:20231023T081607Z
LAST-MODIFIED:20231023T081607Z
UID:16409-1708646400-1708732799@nutfieldchurchprimary.co.uk
SUMMARY:PTFA KS2 Disco (Yrs 3-6) Friday 23rd February – 17.15pm-18.15pm
DESCRIPTION:PTFA KS2 Disco (Yrs 3-6) Friday 23rd February – 17.15pm-18.15pm
URL:https://nutfieldchurchprimary.co.uk/event/ptfa-ks2-disco-yrs-3-6-friday-23rd-february-17-15pm-18-15pm/
END:VEVENT
END:VCALENDAR