BEGIN:VCALENDAR
VERSION:2.0
PRODID:-//Nutfield Church Primary School - ECPv5.16.4//NONSGML v1.0//EN
CALSCALE:GREGORIAN
METHOD:PUBLISH
X-WR-CALNAME:Nutfield Church Primary School
X-ORIGINAL-URL:https://nutfieldchurchprimary.co.uk
X-WR-CALDESC:Events for Nutfield Church Primary School
REFRESH-INTERVAL;VALUE=DURATION:PT1H
X-Robots-Tag:noindex
X-PUBLISHED-TTL:PT1H
BEGIN:VTIMEZONE
TZID:UTC
BEGIN:STANDARD
TZOFFSETFROM:+0000
TZOFFSETTO:+0000
TZNAME:UTC
DTSTART:20240101T000000
END:STANDARD
END:VTIMEZONE
BEGIN:VEVENT
DTSTART;VALUE=DATE:20240520
DTEND;VALUE=DATE:20240521
DTSTAMP:20260422T184612
CREATED:20231023T082230Z
LAST-MODIFIED:20231023T082230Z
UID:16449-1716163200-1716249599@nutfieldchurchprimary.co.uk
SUMMARY:School Photographer - Group Monday 20th May
DESCRIPTION:School Photographer – Group Monday 20th May
URL:https://nutfieldchurchprimary.co.uk/event/school-photographer-group-monday-20th-may/
END:VEVENT
BEGIN:VEVENT
DTSTART;VALUE=DATE:20240520
DTEND;VALUE=DATE:20240521
DTSTAMP:20260422T184612
CREATED:20231023T082247Z
LAST-MODIFIED:20231023T082247Z
UID:16451-1716163200-1716249599@nutfieldchurchprimary.co.uk
SUMMARY:PTFA Cinema Night Monday 20th May – 15.15pm-17.30pm
DESCRIPTION:PTFA Cinema Night Monday 20th May – 15.15pm-17.30pm
URL:https://nutfieldchurchprimary.co.uk/event/ptfa-cinema-night-monday-20th-may-15-15pm-17-30pm/
END:VEVENT
END:VCALENDAR