BEGIN:VCALENDAR
VERSION:2.0
PRODID:-//Nutfield Church Primary School - ECPv5.16.4//NONSGML v1.0//EN
CALSCALE:GREGORIAN
METHOD:PUBLISH
X-WR-CALNAME:Nutfield Church Primary School
X-ORIGINAL-URL:https://nutfieldchurchprimary.co.uk
X-WR-CALDESC:Events for Nutfield Church Primary School
REFRESH-INTERVAL;VALUE=DURATION:PT1H
X-Robots-Tag:noindex
X-PUBLISHED-TTL:PT1H
BEGIN:VTIMEZONE
TZID:UTC
BEGIN:STANDARD
TZOFFSETFROM:+0000
TZOFFSETTO:+0000
TZNAME:UTC
DTSTART:20240101T000000
END:STANDARD
END:VTIMEZONE
BEGIN:VEVENT
DTSTART;VALUE=DATE:20240523
DTEND;VALUE=DATE:20240524
DTSTAMP:20260422T184613
CREATED:20240429T092752Z
LAST-MODIFIED:20240429T092752Z
UID:19327-1716422400-1716508799@nutfieldchurchprimary.co.uk
SUMMARY:Year 1 Victorian Day
DESCRIPTION:Year 1 Victorian Day
URL:https://nutfieldchurchprimary.co.uk/event/year-1-victorian-day/
END:VEVENT
END:VCALENDAR