BEGIN:VCALENDAR
VERSION:2.0
PRODID:-//Nutfield Church Primary School - ECPv5.16.4//NONSGML v1.0//EN
CALSCALE:GREGORIAN
METHOD:PUBLISH
X-ORIGINAL-URL:https://nutfieldchurchprimary.co.uk
X-WR-CALDESC:Events for Nutfield Church Primary School
REFRESH-INTERVAL;VALUE=DURATION:PT1H
X-Robots-Tag:noindex
X-PUBLISHED-TTL:PT1H
BEGIN:VTIMEZONE
TZID:UTC
BEGIN:STANDARD
TZOFFSETFROM:+0000
TZOFFSETTO:+0000
TZNAME:UTC
DTSTART:20240101T000000
END:STANDARD
END:VTIMEZONE
BEGIN:VEVENT
DTSTART;VALUE=DATE:20240603
DTEND;VALUE=DATE:20240615
DTSTAMP:20260422T170224
CREATED:20231023T082438Z
LAST-MODIFIED:20231023T082438Z
UID:16459-1717372800-1718409599@nutfieldchurchprimary.co.uk
SUMMARY:Year 4 Multiplication Tables Check Monday 3rd June-Friday 14th June
DESCRIPTION:Year 4 Multiplication Tables Check Monday 3rd June-Friday 14th June
URL:https://nutfieldchurchprimary.co.uk/event/year-4-multiplication-tables-check-monday-3rd-june-friday-14th-june/
END:VEVENT
END:VCALENDAR