BEGIN:VCALENDAR
VERSION:2.0
PRODID:-//Nutfield Church Primary School - ECPv5.16.4//NONSGML v1.0//EN
CALSCALE:GREGORIAN
METHOD:PUBLISH
X-ORIGINAL-URL:https://nutfieldchurchprimary.co.uk
X-WR-CALDESC:Events for Nutfield Church Primary School
REFRESH-INTERVAL;VALUE=DURATION:PT1H
X-Robots-Tag:noindex
X-PUBLISHED-TTL:PT1H
BEGIN:VTIMEZONE
TZID:UTC
BEGIN:STANDARD
TZOFFSETFROM:+0000
TZOFFSETTO:+0000
TZNAME:UTC
DTSTART:20240101T000000
END:STANDARD
END:VTIMEZONE
BEGIN:VEVENT
DTSTART;VALUE=DATE:20240603
DTEND;VALUE=DATE:20240615
DTSTAMP:20260422T170223
CREATED:20231023T082438Z
LAST-MODIFIED:20231023T082438Z
UID:16459-1717372800-1718409599@nutfieldchurchprimary.co.uk
SUMMARY:Year 4 Multiplication Tables Check Monday 3rd June-Friday 14th June
DESCRIPTION:Year 4 Multiplication Tables Check Monday 3rd June-Friday 14th June
URL:https://nutfieldchurchprimary.co.uk/event/year-4-multiplication-tables-check-monday-3rd-june-friday-14th-june/
END:VEVENT
BEGIN:VEVENT
DTSTART;VALUE=DATE:20240610
DTEND;VALUE=DATE:20240615
DTSTAMP:20260422T170223
CREATED:20240115T115659Z
LAST-MODIFIED:20240115T115659Z
UID:17722-1717977600-1718409599@nutfieldchurchprimary.co.uk
SUMMARY:Phonics Screening Check W/C Monday 10th June
DESCRIPTION:Phonics Screening Check W/C Monday 10th June
URL:https://nutfieldchurchprimary.co.uk/event/phonics-screening-check-w-c-monday-10th-june/
END:VEVENT
BEGIN:VEVENT
DTSTART;VALUE=DATE:20240612
DTEND;VALUE=DATE:20240615
DTSTAMP:20260422T170223
CREATED:20231023T082538Z
LAST-MODIFIED:20231023T082538Z
UID:16465-1718150400-1718409599@nutfieldchurchprimary.co.uk
SUMMARY:Year 5 – Activity Days - Aqua Sports Wednesday 12th - Friday 14th June
DESCRIPTION:Year 5 – Activity Days – Aqua Sports Wednesday 12th – Friday 14th June
URL:https://nutfieldchurchprimary.co.uk/event/year-5-activity-days-aqua-sports-wednesday-12th-friday-14th-june/
END:VEVENT
BEGIN:VEVENT
DTSTART;VALUE=DATE:20240613
DTEND;VALUE=DATE:20240614
DTSTAMP:20260422T170223
CREATED:20231023T082452Z
LAST-MODIFIED:20231023T082452Z
UID:16461-1718236800-1718323199@nutfieldchurchprimary.co.uk
SUMMARY:Year 6 (2024/25) residential meeting Thursday 13th June 3.15pm – 4pm (Yr 6 classroom)
DESCRIPTION:Year 6 (2024/25) residential meeting Thursday 13th June 3.15pm – 4pm (Yr 6 classroom)
URL:https://nutfieldchurchprimary.co.uk/event/year-6-2024-25-residential-meeting-thursday-13th-june-3-15pm-4pm-yr-6-classroom/
END:VEVENT
END:VCALENDAR