BEGIN:VCALENDAR
VERSION:2.0
PRODID:-//Nutfield Church Primary School - ECPv5.16.4//NONSGML v1.0//EN
CALSCALE:GREGORIAN
METHOD:PUBLISH
X-ORIGINAL-URL:https://nutfieldchurchprimary.co.uk
X-WR-CALDESC:Events for Nutfield Church Primary School
REFRESH-INTERVAL;VALUE=DURATION:PT1H
X-Robots-Tag:noindex
X-PUBLISHED-TTL:PT1H
BEGIN:VTIMEZONE
TZID:UTC
BEGIN:STANDARD
TZOFFSETFROM:+0000
TZOFFSETTO:+0000
TZNAME:UTC
DTSTART:20240101T000000
END:STANDARD
END:VTIMEZONE
BEGIN:VEVENT
DTSTART;VALUE=DATE:20240701
DTEND;VALUE=DATE:20240702
DTSTAMP:20260422T154556
CREATED:20231023T082935Z
LAST-MODIFIED:20231023T082935Z
UID:16481-1719792000-1719878399@nutfieldchurchprimary.co.uk
SUMMARY:Art Exhibition Monday 1st July – 1.30pm-4.30pm
DESCRIPTION:Art Exhibition Monday 1st July – 1.30pm-4.30pm
URL:https://nutfieldchurchprimary.co.uk/event/art-exhibition-monday-1st-july-1-30pm-4-30pm/
END:VEVENT
END:VCALENDAR