BEGIN:VCALENDAR
VERSION:2.0
PRODID:-//Nutfield Church Primary School - ECPv5.16.4//NONSGML v1.0//EN
CALSCALE:GREGORIAN
METHOD:PUBLISH
X-ORIGINAL-URL:https://nutfieldchurchprimary.co.uk
X-WR-CALDESC:Events for Nutfield Church Primary School
REFRESH-INTERVAL;VALUE=DURATION:PT1H
X-Robots-Tag:noindex
X-PUBLISHED-TTL:PT1H
BEGIN:VTIMEZONE
TZID:UTC
BEGIN:STANDARD
TZOFFSETFROM:+0000
TZOFFSETTO:+0000
TZNAME:UTC
DTSTART:20240101T000000
END:STANDARD
END:VTIMEZONE
BEGIN:VEVENT
DTSTART;VALUE=DATE:20240703
DTEND;VALUE=DATE:20240704
DTSTAMP:20260422T154555
CREATED:20231023T083032Z
LAST-MODIFIED:20231023T083032Z
UID:16487-1719964800-1720051199@nutfieldchurchprimary.co.uk
SUMMARY:‘Welcome to School Meeting’ Wednesday 3rd July 2.00pm-3.00pm
DESCRIPTION:‘Welcome to School Meeting’ Wednesday 3rd July 2.00pm-3.00pm
URL:https://nutfieldchurchprimary.co.uk/event/welcome-to-school-meeting-wednesday-3rd-july-2-00pm-3-00pm/
END:VEVENT
BEGIN:VEVENT
DTSTART;VALUE=DATE:20240703
DTEND;VALUE=DATE:20240704
DTSTAMP:20260422T154555
CREATED:20240115T120154Z
LAST-MODIFIED:20240115T120154Z
UID:17732-1719964800-1720051199@nutfieldchurchprimary.co.uk
SUMMARY:Wellbeing Wednesday (Yr 5)
DESCRIPTION:Wellbeing Wednesday (Yr 5)
URL:https://nutfieldchurchprimary.co.uk/event/wellbeing-wednesday-yr-5-3/
END:VEVENT
END:VCALENDAR