BEGIN:VCALENDAR
VERSION:2.0
PRODID:-//Nutfield Church Primary School - ECPv5.16.4//NONSGML v1.0//EN
CALSCALE:GREGORIAN
METHOD:PUBLISH
X-ORIGINAL-URL:https://nutfieldchurchprimary.co.uk
X-WR-CALDESC:Events for Nutfield Church Primary School
REFRESH-INTERVAL;VALUE=DURATION:PT1H
X-Robots-Tag:noindex
X-PUBLISHED-TTL:PT1H
BEGIN:VTIMEZONE
TZID:UTC
BEGIN:STANDARD
TZOFFSETFROM:+0000
TZOFFSETTO:+0000
TZNAME:UTC
DTSTART:20240101T000000
END:STANDARD
END:VTIMEZONE
BEGIN:VEVENT
DTSTART;VALUE=DATE:20240709
DTEND;VALUE=DATE:20240710
DTSTAMP:20260422T154610
CREATED:20231023T083126Z
LAST-MODIFIED:20231023T083126Z
UID:16493-1720483200-1720569599@nutfieldchurchprimary.co.uk
SUMMARY:Summer Concert Tuesday 9th July 6.00pm-7.00pm
DESCRIPTION:Summer Concert Tuesday 9th July 6.00pm-7.00pm
URL:https://nutfieldchurchprimary.co.uk/event/summer-concert-tuesday-9th-july-6-00pm-7-00pm/
END:VEVENT
END:VCALENDAR