BEGIN:VCALENDAR
VERSION:2.0
PRODID:-//Nutfield Church Primary School - ECPv5.16.4//NONSGML v1.0//EN
CALSCALE:GREGORIAN
METHOD:PUBLISH
X-WR-CALNAME:Nutfield Church Primary School
X-ORIGINAL-URL:https://nutfieldchurchprimary.co.uk
X-WR-CALDESC:Events for Nutfield Church Primary School
REFRESH-INTERVAL;VALUE=DURATION:PT1H
X-Robots-Tag:noindex
X-PUBLISHED-TTL:PT1H
BEGIN:VTIMEZONE
TZID:UTC
BEGIN:STANDARD
TZOFFSETFROM:+0000
TZOFFSETTO:+0000
TZNAME:UTC
DTSTART:20240101T000000
END:STANDARD
END:VTIMEZONE
BEGIN:VEVENT
DTSTART;VALUE=DATE:20240723
DTEND;VALUE=DATE:20240724
DTSTAMP:20260422T160239
CREATED:20231023T083327Z
LAST-MODIFIED:20231023T083327Z
UID:16505-1721692800-1721779199@nutfieldchurchprimary.co.uk
SUMMARY:INSET Day Tuesday 23rd July
DESCRIPTION:INSET Day Tuesday 23rd July
URL:https://nutfieldchurchprimary.co.uk/event/inset-day-tuesday-23rd-july/
END:VEVENT
END:VCALENDAR