BEGIN:VCALENDAR
VERSION:2.0
PRODID:-//Nutfield Church Primary School - ECPv5.16.4//NONSGML v1.0//EN
CALSCALE:GREGORIAN
METHOD:PUBLISH
X-WR-CALNAME:Nutfield Church Primary School
X-ORIGINAL-URL:https://nutfieldchurchprimary.co.uk
X-WR-CALDESC:Events for Nutfield Church Primary School
REFRESH-INTERVAL;VALUE=DURATION:PT1H
X-Robots-Tag:noindex
X-PUBLISHED-TTL:PT1H
BEGIN:VTIMEZONE
TZID:UTC
BEGIN:STANDARD
TZOFFSETFROM:+0000
TZOFFSETTO:+0000
TZNAME:UTC
DTSTART:20240101T000000
END:STANDARD
END:VTIMEZONE
BEGIN:VEVENT
DTSTART;VALUE=DATE:20240904
DTEND;VALUE=DATE:20240905
DTSTAMP:20260422T125830
CREATED:20240429T093258Z
LAST-MODIFIED:20240429T093258Z
UID:19333-1725408000-1725494399@nutfieldchurchprimary.co.uk
SUMMARY:New term starts - Children return to school
DESCRIPTION:New term starts – Children return to school
URL:https://nutfieldchurchprimary.co.uk/event/new-term-starts-children-return-to-school/
END:VEVENT
BEGIN:VEVENT
DTSTART;VALUE=DATE:20240904
DTEND;VALUE=DATE:20240905
DTSTAMP:20260422T125830
CREATED:20240715T081715Z
LAST-MODIFIED:20240715T081715Z
UID:21308-1725408000-1725494399@nutfieldchurchprimary.co.uk
SUMMARY:Year R – Group 1 start
DESCRIPTION:Year R – Group 1 start
URL:https://nutfieldchurchprimary.co.uk/event/year-r-group-1-start/
END:VEVENT
BEGIN:VEVENT
DTSTART;VALUE=DATE:20240904
DTEND;VALUE=DATE:20240905
DTSTAMP:20260422T125830
CREATED:20240715T081802Z
LAST-MODIFIED:20240715T081802Z
UID:21310-1725408000-1725494399@nutfieldchurchprimary.co.uk
SUMMARY:Year 1 – Meet the Teacher – 3.25pm – 4.15pm – Classroom 
DESCRIPTION:Year 1 – Meet the Teacher: Wednesday 4th September – 3.25pm – 4.15pm – Classroom
URL:https://nutfieldchurchprimary.co.uk/event/year-1-meet-the-teacher-3-25pm-4-15pm-classroom/
END:VEVENT
END:VCALENDAR