BEGIN:VCALENDAR
VERSION:2.0
PRODID:-//Nutfield Church Primary School - ECPv5.16.4//NONSGML v1.0//EN
CALSCALE:GREGORIAN
METHOD:PUBLISH
X-ORIGINAL-URL:https://nutfieldchurchprimary.co.uk
X-WR-CALDESC:Events for Nutfield Church Primary School
REFRESH-INTERVAL;VALUE=DURATION:PT1H
X-Robots-Tag:noindex
X-PUBLISHED-TTL:PT1H
BEGIN:VTIMEZONE
TZID:UTC
BEGIN:STANDARD
TZOFFSETFROM:+0000
TZOFFSETTO:+0000
TZNAME:UTC
DTSTART:20240101T000000
END:STANDARD
END:VTIMEZONE
BEGIN:VEVENT
DTSTART;VALUE=DATE:20240905
DTEND;VALUE=DATE:20240906
DTSTAMP:20260422T125932
CREATED:20240715T081820Z
LAST-MODIFIED:20240715T081820Z
UID:21312-1725494400-1725580799@nutfieldchurchprimary.co.uk
SUMMARY:Year R – Group 2 start
DESCRIPTION:Year R – Group 2 start
URL:https://nutfieldchurchprimary.co.uk/event/year-r-group-2-start/
END:VEVENT
BEGIN:VEVENT
DTSTART;VALUE=DATE:20240905
DTEND;VALUE=DATE:20240906
DTSTAMP:20260422T125932
CREATED:20240715T082057Z
LAST-MODIFIED:20240715T082057Z
UID:21314-1725494400-1725580799@nutfieldchurchprimary.co.uk
SUMMARY:Year 2 – Meet the Teacher - Thursday 5th September – 3.25pm – 4.15pm – Classroom
DESCRIPTION:Year 2 – Meet the Teacher: Thursday 5th September – 3.25pm – 4.15pm – Classroom
URL:https://nutfieldchurchprimary.co.uk/event/year-2-meet-the-teacher-thursday-5th-september-3-25pm-4-15pm-classroom/
END:VEVENT
BEGIN:VEVENT
DTSTART;VALUE=DATE:20240905
DTEND;VALUE=DATE:20240906
DTSTAMP:20260422T125932
CREATED:20240715T082134Z
LAST-MODIFIED:20240715T082134Z
UID:21316-1725494400-1725580799@nutfieldchurchprimary.co.uk
SUMMARY:Year 5 – Meet the Teacher - Thursday 5th September – 3.25pm – 4.15pm – Classroom
DESCRIPTION:Year 5 – Meet the Teacher: Thursday 5th September – 3.25pm – 4.15pm – Classroom
URL:https://nutfieldchurchprimary.co.uk/event/year-5-meet-the-teacher-thursday-5th-september-3-25pm-4-15pm-classroom/
END:VEVENT
END:VCALENDAR