BEGIN:VCALENDAR
VERSION:2.0
PRODID:-//Nutfield Church Primary School - ECPv5.16.4//NONSGML v1.0//EN
CALSCALE:GREGORIAN
METHOD:PUBLISH
X-ORIGINAL-URL:https://nutfieldchurchprimary.co.uk
X-WR-CALDESC:Events for Nutfield Church Primary School
REFRESH-INTERVAL;VALUE=DURATION:PT1H
X-Robots-Tag:noindex
X-PUBLISHED-TTL:PT1H
BEGIN:VTIMEZONE
TZID:UTC
BEGIN:STANDARD
TZOFFSETFROM:+0000
TZOFFSETTO:+0000
TZNAME:UTC
DTSTART:20240101T000000
END:STANDARD
END:VTIMEZONE
BEGIN:VEVENT
DTSTART;VALUE=DATE:20240909
DTEND;VALUE=DATE:20240910
DTSTAMP:20260422T130004
CREATED:20240715T082329Z
LAST-MODIFIED:20240715T082329Z
UID:21324-1725840000-1725926399@nutfieldchurchprimary.co.uk
SUMMARY:Year R – Full time
DESCRIPTION:Year R – Full time
URL:https://nutfieldchurchprimary.co.uk/event/year-r-full-time/
END:VEVENT
END:VCALENDAR