BEGIN:VCALENDAR
VERSION:2.0
PRODID:-//Nutfield Church Primary School - ECPv5.16.4//NONSGML v1.0//EN
CALSCALE:GREGORIAN
METHOD:PUBLISH
X-ORIGINAL-URL:https://nutfieldchurchprimary.co.uk
X-WR-CALDESC:Events for Nutfield Church Primary School
REFRESH-INTERVAL;VALUE=DURATION:PT1H
X-Robots-Tag:noindex
X-PUBLISHED-TTL:PT1H
BEGIN:VTIMEZONE
TZID:UTC
BEGIN:STANDARD
TZOFFSETFROM:+0000
TZOFFSETTO:+0000
TZNAME:UTC
DTSTART:20240101T000000
END:STANDARD
END:VTIMEZONE
BEGIN:VEVENT
DTSTART;VALUE=DATE:20240910
DTEND;VALUE=DATE:20240911
DTSTAMP:20260422T125932
CREATED:20240715T082405Z
LAST-MODIFIED:20240715T082405Z
UID:21326-1725926400-1726012799@nutfieldchurchprimary.co.uk
SUMMARY:Year R – Meet the Teacher - Tuesday 10th September – 3.25pm – 4.15pm – Classroom
DESCRIPTION:Year R – Meet the Teacher: Tuesday 10th September – 3.25pm – 4.15pm – Classroom
URL:https://nutfieldchurchprimary.co.uk/event/year-r-meet-the-teacher-tuesday-10th-september-3-25pm-4-15pm-classroom/
END:VEVENT
BEGIN:VEVENT
DTSTART;VALUE=DATE:20240910
DTEND;VALUE=DATE:20240911
DTSTAMP:20260422T125932
CREATED:20240715T101304Z
LAST-MODIFIED:20240715T101304Z
UID:21386-1725926400-1726012799@nutfieldchurchprimary.co.uk
SUMMARY:Year 4 – Meet the Teacher/Activity Days - Tuesday 10th September – 3.25pm – 4.15pm – Classroom
DESCRIPTION:Year 4 – Meet the Teacher/Activity Days – Tuesday 10th September – 3.25pm – 4.15pm – Classroom
URL:https://nutfieldchurchprimary.co.uk/event/year-4-meet-the-teacher-activity-days-tuesday-10th-september-3-25pm-4-15pm-classroom/
END:VEVENT
END:VCALENDAR