BEGIN:VCALENDAR
VERSION:2.0
PRODID:-//Nutfield Church Primary School - ECPv5.16.4//NONSGML v1.0//EN
CALSCALE:GREGORIAN
METHOD:PUBLISH
X-ORIGINAL-URL:https://nutfieldchurchprimary.co.uk
X-WR-CALDESC:Events for Nutfield Church Primary School
REFRESH-INTERVAL;VALUE=DURATION:PT1H
X-Robots-Tag:noindex
X-PUBLISHED-TTL:PT1H
BEGIN:VTIMEZONE
TZID:UTC
BEGIN:STANDARD
TZOFFSETFROM:+0000
TZOFFSETTO:+0000
TZNAME:UTC
DTSTART:20240101T000000
END:STANDARD
END:VTIMEZONE
BEGIN:VEVENT
DTSTART;VALUE=DATE:20240923
DTEND;VALUE=DATE:20240928
DTSTAMP:20260422T130025
CREATED:20240715T101455Z
LAST-MODIFIED:20240715T101455Z
UID:21394-1727049600-1727481599@nutfieldchurchprimary.co.uk
SUMMARY:Year 6 – Residential Trip – High Ashurst: Monday 23rd September – Friday 27th September
DESCRIPTION:Year 6 – Residential Trip – High Ashurst: Monday 23rd September – Friday 27th September
URL:https://nutfieldchurchprimary.co.uk/event/year-6-residential-trip-high-ashurst-monday-23rd-september-friday-27th-september/
END:VEVENT
BEGIN:VEVENT
DTSTART;VALUE=DATE:20240925
DTEND;VALUE=DATE:20240928
DTSTAMP:20260422T130025
CREATED:20240715T101609Z
LAST-MODIFIED:20240715T101609Z
UID:21398-1727222400-1727481599@nutfieldchurchprimary.co.uk
SUMMARY:Year 4 – Activity Days High Ashurst: Wednesday 25th September – Friday 27th September
DESCRIPTION:Year 4 – Activity Days High Ashurst: Wednesday 25th September – Friday 27th September
URL:https://nutfieldchurchprimary.co.uk/event/year-4-activity-days-high-ashurst-wednesday-25th-september-friday-27th-september/
END:VEVENT
BEGIN:VEVENT
DTSTART;VALUE=DATE:20240925
DTEND;VALUE=DATE:20240926
DTSTAMP:20260422T130025
CREATED:20240715T101629Z
LAST-MODIFIED:20240715T101629Z
UID:21400-1727222400-1727308799@nutfieldchurchprimary.co.uk
SUMMARY:Wellbeing Wednesday Yr 4
DESCRIPTION:Wellbeing Wednesday Yr 4
URL:https://nutfieldchurchprimary.co.uk/event/wellbeing-wednesday-yr-4-4/
END:VEVENT
BEGIN:VEVENT
DTSTART;TZID=UTC:20240925T180000
DTEND;TZID=UTC:20240925T190000
DTSTAMP:20260422T130025
CREATED:20240916T084019Z
LAST-MODIFIED:20240916T084019Z
UID:21687-1727287200-1727290800@nutfieldchurchprimary.co.uk
SUMMARY:PTFA AGM - 6pm - 7pm - School Hall
DESCRIPTION:PTFA AGM – 6pm – 7pm – School Hall
URL:https://nutfieldchurchprimary.co.uk/event/ptfa-agm-6pm-7pm-school-hall/
END:VEVENT
END:VCALENDAR