BEGIN:VCALENDAR
VERSION:2.0
PRODID:-//Nutfield Church Primary School - ECPv5.16.4//NONSGML v1.0//EN
CALSCALE:GREGORIAN
METHOD:PUBLISH
X-WR-CALNAME:Nutfield Church Primary School
X-ORIGINAL-URL:https://nutfieldchurchprimary.co.uk
X-WR-CALDESC:Events for Nutfield Church Primary School
REFRESH-INTERVAL;VALUE=DURATION:PT1H
X-Robots-Tag:noindex
X-PUBLISHED-TTL:PT1H
BEGIN:VTIMEZONE
TZID:UTC
BEGIN:STANDARD
TZOFFSETFROM:+0000
TZOFFSETTO:+0000
TZNAME:UTC
DTSTART:20240101T000000
END:STANDARD
END:VTIMEZONE
BEGIN:VEVENT
DTSTART;VALUE=DATE:20241122
DTEND;VALUE=DATE:20241123
DTSTAMP:20260422T101223
CREATED:20241118T131826Z
LAST-MODIFIED:20241118T131826Z
UID:22745-1732233600-1732319999@nutfieldchurchprimary.co.uk
SUMMARY:PTFA Non-uniform Day – Sweets for Christmas Fair
DESCRIPTION:PTFA Non-uniform Day – Sweets for Christmas Fair
URL:https://nutfieldchurchprimary.co.uk/event/ptfa-non-uniform-day-sweets-for-christmas-fair/
END:VEVENT
BEGIN:VEVENT
DTSTART;TZID=UTC:20241122T110000
DTEND;TZID=UTC:20241122T120000
DTSTAMP:20260422T101223
CREATED:20241111T125031Z
LAST-MODIFIED:20241111T125031Z
UID:22635-1732273200-1732276800@nutfieldchurchprimary.co.uk
SUMMARY:Headteacher Tour Dates 2024
DESCRIPTION:Headteacher Tour Dates 2024:\n\nFriday 22nd November 2024 – 11am – 12pm\n\nBook a date:\nIf you are thinking of Nutfield Church as your child’s school and would like to meet our Headteacher and look around our school\, please do contact the School Office with your preferred dates by email on info@nutfield.surrey.sch.uk. Feel free to speak to the office team if you have any questions.
URL:https://nutfieldchurchprimary.co.uk/event/headteacher-tour-dates-2024-2/
END:VEVENT
END:VCALENDAR