BEGIN:VCALENDAR
VERSION:2.0
PRODID:-//Nutfield Church Primary School - ECPv5.16.4//NONSGML v1.0//EN
CALSCALE:GREGORIAN
METHOD:PUBLISH
X-WR-CALNAME:Nutfield Church Primary School
X-ORIGINAL-URL:https://nutfieldchurchprimary.co.uk
X-WR-CALDESC:Events for Nutfield Church Primary School
REFRESH-INTERVAL;VALUE=DURATION:PT1H
X-Robots-Tag:noindex
X-PUBLISHED-TTL:PT1H
BEGIN:VTIMEZONE
TZID:UTC
BEGIN:STANDARD
TZOFFSETFROM:+0000
TZOFFSETTO:+0000
TZNAME:UTC
DTSTART:20240101T000000
END:STANDARD
END:VTIMEZONE
BEGIN:VEVENT
DTSTART;VALUE=DATE:20241127
DTEND;VALUE=DATE:20241128
DTSTAMP:20260422T085227
CREATED:20240715T102837Z
LAST-MODIFIED:20240715T102837Z
UID:21440-1732665600-1732751999@nutfieldchurchprimary.co.uk
SUMMARY:Parent and Carer Evenings - Wednesday 27th November -3.30pm - 6.00pm
DESCRIPTION:Parent and Carer Evenings – Wednesday 27th November -3.30pm – 6.00pm
URL:https://nutfieldchurchprimary.co.uk/event/parent-and-carer-evenings-wednesday-27th-november-3-30pm-6-00pm/
END:VEVENT
BEGIN:VEVENT
DTSTART;VALUE=DATE:20241127
DTEND;VALUE=DATE:20241128
DTSTAMP:20260422T085227
CREATED:20240715T102902Z
LAST-MODIFIED:20241115T120534Z
UID:21442-1732665600-1732751999@nutfieldchurchprimary.co.uk
SUMMARY:Wellbeing Wednesday Yr 2
DESCRIPTION:Wellbeing Wednesday Yr 2
URL:https://nutfieldchurchprimary.co.uk/event/wellbeing-wednesday-yr-3-5/
END:VEVENT
END:VCALENDAR