BEGIN:VCALENDAR
VERSION:2.0
PRODID:-//Nutfield Church Primary School - ECPv5.16.4//NONSGML v1.0//EN
CALSCALE:GREGORIAN
METHOD:PUBLISH
X-ORIGINAL-URL:https://nutfieldchurchprimary.co.uk
X-WR-CALDESC:Events for Nutfield Church Primary School
REFRESH-INTERVAL;VALUE=DURATION:PT1H
X-Robots-Tag:noindex
X-PUBLISHED-TTL:PT1H
BEGIN:VTIMEZONE
TZID:UTC
BEGIN:STANDARD
TZOFFSETFROM:+0000
TZOFFSETTO:+0000
TZNAME:UTC
DTSTART:20240101T000000
END:STANDARD
END:VTIMEZONE
BEGIN:VEVENT
DTSTART;VALUE=DATE:20241203
DTEND;VALUE=DATE:20241204
DTSTAMP:20260422T085413
CREATED:20240715T103044Z
LAST-MODIFIED:20240715T103044Z
UID:21448-1733184000-1733270399@nutfieldchurchprimary.co.uk
SUMMARY:Nativity Dress Rehearsal - Tuesday 3rd December – 2.00pm-3.00pm
DESCRIPTION:Nativity Dress Rehearsal – Tuesday 3rd December – 2.00pm-3.00pm
URL:https://nutfieldchurchprimary.co.uk/event/nativity-dress-rehearsal-tuesday-3rd-december-2-00pm-3-00pm/
END:VEVENT
END:VCALENDAR