BEGIN:VCALENDAR
VERSION:2.0
PRODID:-//Nutfield Church Primary School - ECPv5.16.4//NONSGML v1.0//EN
CALSCALE:GREGORIAN
METHOD:PUBLISH
X-WR-CALNAME:Nutfield Church Primary School
X-ORIGINAL-URL:https://nutfieldchurchprimary.co.uk
X-WR-CALDESC:Events for Nutfield Church Primary School
REFRESH-INTERVAL;VALUE=DURATION:PT1H
X-Robots-Tag:noindex
X-PUBLISHED-TTL:PT1H
BEGIN:VTIMEZONE
TZID:UTC
BEGIN:STANDARD
TZOFFSETFROM:+0000
TZOFFSETTO:+0000
TZNAME:UTC
DTSTART:20240101T000000
END:STANDARD
END:VTIMEZONE
BEGIN:VEVENT
DTSTART;VALUE=DATE:20241218
DTEND;VALUE=DATE:20241219
DTSTAMP:20260422T085229
CREATED:20240715T104021Z
LAST-MODIFIED:20240715T104021Z
UID:21460-1734480000-1734566399@nutfieldchurchprimary.co.uk
SUMMARY:Wellbeing Wednesday Yr R
DESCRIPTION:Wellbeing Wednesday Yr R
URL:https://nutfieldchurchprimary.co.uk/event/wellbeing-wednesday-yr-r-7/
END:VEVENT
BEGIN:VEVENT
DTSTART;VALUE=DATE:20241218
DTEND;VALUE=DATE:20241219
DTSTAMP:20260422T085229
CREATED:20240715T104052Z
LAST-MODIFIED:20240715T104052Z
UID:21462-1734480000-1734566399@nutfieldchurchprimary.co.uk
SUMMARY:Christmas Lunch - Wednesday 18th December – 12.00pm
DESCRIPTION:Christmas Lunch – Wednesday 18th December – 12.00pm
URL:https://nutfieldchurchprimary.co.uk/event/christmas-lunch-wednesday-18th-december-12-00pm/
END:VEVENT
END:VCALENDAR