BEGIN:VCALENDAR
VERSION:2.0
PRODID:-//Nutfield Church Primary School - ECPv5.16.4//NONSGML v1.0//EN
CALSCALE:GREGORIAN
METHOD:PUBLISH
X-ORIGINAL-URL:https://nutfieldchurchprimary.co.uk
X-WR-CALDESC:Events for Nutfield Church Primary School
REFRESH-INTERVAL;VALUE=DURATION:PT1H
X-Robots-Tag:noindex
X-PUBLISHED-TTL:PT1H
BEGIN:VTIMEZONE
TZID:UTC
BEGIN:STANDARD
TZOFFSETFROM:+0000
TZOFFSETTO:+0000
TZNAME:UTC
DTSTART:20240101T000000
END:STANDARD
END:VTIMEZONE
BEGIN:VEVENT
DTSTART;VALUE=DATE:20241219
DTEND;VALUE=DATE:20241220
DTSTAMP:20260422T085416
CREATED:20241118T132331Z
LAST-MODIFIED:20241118T132331Z
UID:22749-1734566400-1734652799@nutfieldchurchprimary.co.uk
SUMMARY:Christmas Service at Christ Church – 9.30am-11.00am
DESCRIPTION:Christmas Service at Christ Church Thursday 19th December – 9.30am-11.00am
URL:https://nutfieldchurchprimary.co.uk/event/christmas-service-at-christ-church-9-30am-11-00am/
END:VEVENT
BEGIN:VEVENT
DTSTART;VALUE=DATE:20241219
DTEND;VALUE=DATE:20241220
DTSTAMP:20260422T085416
CREATED:20241118T132413Z
LAST-MODIFIED:20241118T132413Z
UID:22751-1734566400-1734652799@nutfieldchurchprimary.co.uk
SUMMARY:PTFA Christmas Fair - 3.15pm -5.30pm
DESCRIPTION:PTFA Christmas Fair Thursday 19th December 3.15pm -5.30pm
URL:https://nutfieldchurchprimary.co.uk/event/ptfa-christmas-fair-3-15pm-5-30pm/
END:VEVENT
END:VCALENDAR