BEGIN:VCALENDAR
VERSION:2.0
PRODID:-//Nutfield Church Primary School - ECPv5.16.4//NONSGML v1.0//EN
CALSCALE:GREGORIAN
METHOD:PUBLISH
X-ORIGINAL-URL:https://nutfieldchurchprimary.co.uk
X-WR-CALDESC:Events for Nutfield Church Primary School
REFRESH-INTERVAL;VALUE=DURATION:PT1H
X-Robots-Tag:noindex
X-PUBLISHED-TTL:PT1H
BEGIN:VTIMEZONE
TZID:UTC
BEGIN:STANDARD
TZOFFSETFROM:+0000
TZOFFSETTO:+0000
TZNAME:UTC
DTSTART:20250101T000000
END:STANDARD
END:VTIMEZONE
BEGIN:VEVENT
DTSTART;VALUE=DATE:20250106
DTEND;VALUE=DATE:20250107
DTSTAMP:20260422T070609
CREATED:20241216T113637Z
LAST-MODIFIED:20241216T113637Z
UID:23614-1736121600-1736207999@nutfieldchurchprimary.co.uk
SUMMARY:Start of Spring term  (all children in school)
DESCRIPTION:Start of Spring term (all children in school)
URL:https://nutfieldchurchprimary.co.uk/event/start-of-spring-term-all-children-in-school/
END:VEVENT
END:VCALENDAR