BEGIN:VCALENDAR
VERSION:2.0
PRODID:-//Nutfield Church Primary School - ECPv5.16.4//NONSGML v1.0//EN
CALSCALE:GREGORIAN
METHOD:PUBLISH
X-WR-CALNAME:Nutfield Church Primary School
X-ORIGINAL-URL:https://nutfieldchurchprimary.co.uk
X-WR-CALDESC:Events for Nutfield Church Primary School
REFRESH-INTERVAL;VALUE=DURATION:PT1H
X-Robots-Tag:noindex
X-PUBLISHED-TTL:PT1H
BEGIN:VTIMEZONE
TZID:UTC
BEGIN:STANDARD
TZOFFSETFROM:+0000
TZOFFSETTO:+0000
TZNAME:UTC
DTSTART:20250101T000000
END:STANDARD
END:VTIMEZONE
BEGIN:VEVENT
DTSTART;VALUE=DATE:20250129
DTEND;VALUE=DATE:20250130
DTSTAMP:20260422T070538
CREATED:20241118T133114Z
LAST-MODIFIED:20241118T133114Z
UID:22761-1738108800-1738195199@nutfieldchurchprimary.co.uk
SUMMARY:Year 3 Collective Worship - 9:05am
DESCRIPTION:Year 3 Collective Worship
URL:https://nutfieldchurchprimary.co.uk/event/year-3-collective-worship-905am/
END:VEVENT
BEGIN:VEVENT
DTSTART;VALUE=DATE:20250129
DTEND;VALUE=DATE:20250130
DTSTAMP:20260422T070538
CREATED:20241118T133136Z
LAST-MODIFIED:20241118T133136Z
UID:22763-1738108800-1738195199@nutfieldchurchprimary.co.uk
SUMMARY:Wellbeing Wednesday Yr 4
DESCRIPTION:Wellbeing Wednesday Yr 4
URL:https://nutfieldchurchprimary.co.uk/event/wellbeing-wednesday-yr-4-6/
END:VEVENT
END:VCALENDAR