BEGIN:VCALENDAR
VERSION:2.0
PRODID:-//Nutfield Church Primary School - ECPv5.16.4//NONSGML v1.0//EN
CALSCALE:GREGORIAN
METHOD:PUBLISH
X-WR-CALNAME:Nutfield Church Primary School
X-ORIGINAL-URL:https://nutfieldchurchprimary.co.uk
X-WR-CALDESC:Events for Nutfield Church Primary School
REFRESH-INTERVAL;VALUE=DURATION:PT1H
X-Robots-Tag:noindex
X-PUBLISHED-TTL:PT1H
BEGIN:VTIMEZONE
TZID:UTC
BEGIN:STANDARD
TZOFFSETFROM:+0000
TZOFFSETTO:+0000
TZNAME:UTC
DTSTART:20250101T000000
END:STANDARD
END:VTIMEZONE
BEGIN:VEVENT
DTSTART;VALUE=DATE:20250331
DTEND;VALUE=DATE:20250405
DTSTAMP:20260422T022312
CREATED:20241118T134859Z
LAST-MODIFIED:20241118T134859Z
UID:22817-1743379200-1743811199@nutfieldchurchprimary.co.uk
SUMMARY:SSA Parent and Carer Evenings - W/C 31st March
DESCRIPTION:SSA Parent and Carer Evenings – W/C 31st March
URL:https://nutfieldchurchprimary.co.uk/event/ssa-parent-and-carer-evenings-w-c-31st-march/
END:VEVENT
BEGIN:VEVENT
DTSTART;VALUE=DATE:20250401
DTEND;VALUE=DATE:20250402
DTSTAMP:20260422T022312
CREATED:20241118T135138Z
LAST-MODIFIED:20241118T135138Z
UID:22819-1743465600-1743551999@nutfieldchurchprimary.co.uk
SUMMARY:Easter Concert	Tuesday 1st April 6.00-7.00pm
DESCRIPTION:Easter Concert\nTuesday 1st April 6.00-7.00pm
URL:https://nutfieldchurchprimary.co.uk/event/easter-concerttuesday-1st-april-6-00-7-00pm/
END:VEVENT
END:VCALENDAR