BEGIN:VCALENDAR
VERSION:2.0
PRODID:-//Nutfield Church Primary School - ECPv5.16.4//NONSGML v1.0//EN
CALSCALE:GREGORIAN
METHOD:PUBLISH
X-WR-CALNAME:Nutfield Church Primary School
X-ORIGINAL-URL:https://nutfieldchurchprimary.co.uk
X-WR-CALDESC:Events for Nutfield Church Primary School
REFRESH-INTERVAL;VALUE=DURATION:PT1H
X-Robots-Tag:noindex
X-PUBLISHED-TTL:PT1H
BEGIN:VTIMEZONE
TZID:UTC
BEGIN:STANDARD
TZOFFSETFROM:+0000
TZOFFSETTO:+0000
TZNAME:UTC
DTSTART:20250101T000000
END:STANDARD
END:VTIMEZONE
BEGIN:VEVENT
DTSTART;VALUE=DATE:20250514
DTEND;VALUE=DATE:20250515
DTSTAMP:20260422T004430
CREATED:20250429T113303Z
LAST-MODIFIED:20250429T113313Z
UID:25636-1747180800-1747267199@nutfieldchurchprimary.co.uk
SUMMARY:Wellbeing Wednesday Yr 5
DESCRIPTION:Wellbeing Wednesday Yr  5
URL:https://nutfieldchurchprimary.co.uk/event/wellbeing-wednesday-yr-7/
END:VEVENT
END:VCALENDAR