BEGIN:VCALENDAR
VERSION:2.0
PRODID:-//Nutfield Church Primary School - ECPv5.16.4//NONSGML v1.0//EN
CALSCALE:GREGORIAN
METHOD:PUBLISH
X-ORIGINAL-URL:https://nutfieldchurchprimary.co.uk
X-WR-CALDESC:Events for Nutfield Church Primary School
REFRESH-INTERVAL;VALUE=DURATION:PT1H
X-Robots-Tag:noindex
X-PUBLISHED-TTL:PT1H
BEGIN:VTIMEZONE
TZID:UTC
BEGIN:STANDARD
TZOFFSETFROM:+0000
TZOFFSETTO:+0000
TZNAME:UTC
DTSTART:20250101T000000
END:STANDARD
END:VTIMEZONE
BEGIN:VEVENT
DTSTART;VALUE=DATE:20250611
DTEND;VALUE=DATE:20250614
DTSTAMP:20260422T004610
CREATED:20241216T105825Z
LAST-MODIFIED:20241216T105825Z
UID:23559-1749600000-1749859199@nutfieldchurchprimary.co.uk
SUMMARY:Year 5 – Activity Days - Aqua Sports
DESCRIPTION:Year 5 – Activity Days – Aqua Sports
URL:https://nutfieldchurchprimary.co.uk/event/year-5-activity-days-aqua-sports-2/
END:VEVENT
BEGIN:VEVENT
DTSTART;VALUE=DATE:20250613
DTEND;VALUE=DATE:20250614
DTSTAMP:20260422T004610
CREATED:20241216T110151Z
LAST-MODIFIED:20241216T110151Z
UID:23561-1749772800-1749859199@nutfieldchurchprimary.co.uk
SUMMARY:PTFA Year 1 Cake Sale from 3:15pm
DESCRIPTION:PTFA Year 1 Cake Sale from 3:15pm
URL:https://nutfieldchurchprimary.co.uk/event/ptfa-year-1-cake-sale-from-315pm/
END:VEVENT
END:VCALENDAR