BEGIN:VCALENDAR
VERSION:2.0
PRODID:-//Nutfield Church Primary School - ECPv5.16.4//NONSGML v1.0//EN
CALSCALE:GREGORIAN
METHOD:PUBLISH
X-WR-CALNAME:Nutfield Church Primary School
X-ORIGINAL-URL:https://nutfieldchurchprimary.co.uk
X-WR-CALDESC:Events for Nutfield Church Primary School
REFRESH-INTERVAL;VALUE=DURATION:PT1H
X-Robots-Tag:noindex
X-PUBLISHED-TTL:PT1H
BEGIN:VTIMEZONE
TZID:UTC
BEGIN:STANDARD
TZOFFSETFROM:+0000
TZOFFSETTO:+0000
TZNAME:UTC
DTSTART:20250101T000000
END:STANDARD
END:VTIMEZONE
BEGIN:VEVENT
DTSTART;VALUE=DATE:20250623
DTEND;VALUE=DATE:20250628
DTSTAMP:20260421T231137
CREATED:20241118T135949Z
LAST-MODIFIED:20250515T105738Z
UID:22845-1750636800-1751068799@nutfieldchurchprimary.co.uk
SUMMARY:Sports and Activities Week
DESCRIPTION:Sports and Activities Week
URL:https://nutfieldchurchprimary.co.uk/event/sports-and-activities-week/
END:VEVENT
BEGIN:VEVENT
DTSTART;VALUE=DATE:20250627
DTEND;VALUE=DATE:20250628
DTSTAMP:20260421T231137
CREATED:20241216T110703Z
LAST-MODIFIED:20241216T110703Z
UID:23575-1750982400-1751068799@nutfieldchurchprimary.co.uk
SUMMARY:Indian Dance Workshop (Yr 3 and 4)
DESCRIPTION:Indian Dance Workshop (Yr 3 and 4)
URL:https://nutfieldchurchprimary.co.uk/event/indian-dance-workshop-yr-3-and-4/
END:VEVENT
END:VCALENDAR