BEGIN:VCALENDAR
VERSION:2.0
PRODID:-//Nutfield Church Primary School - ECPv5.16.4//NONSGML v1.0//EN
CALSCALE:GREGORIAN
METHOD:PUBLISH
X-WR-CALNAME:Nutfield Church Primary School
X-ORIGINAL-URL:https://nutfieldchurchprimary.co.uk
X-WR-CALDESC:Events for Nutfield Church Primary School
REFRESH-INTERVAL;VALUE=DURATION:PT1H
X-Robots-Tag:noindex
X-PUBLISHED-TTL:PT1H
BEGIN:VTIMEZONE
TZID:UTC
BEGIN:STANDARD
TZOFFSETFROM:+0000
TZOFFSETTO:+0000
TZNAME:UTC
DTSTART:20250101T000000
END:STANDARD
END:VTIMEZONE
BEGIN:VEVENT
DTSTART;VALUE=DATE:20250716
DTEND;VALUE=DATE:20250717
DTSTAMP:20260421T214255
CREATED:20241216T113312Z
LAST-MODIFIED:20241216T113312Z
UID:23604-1752624000-1752710399@nutfieldchurchprimary.co.uk
SUMMARY:Year 6 Production - 6pm-7pm
DESCRIPTION:Year 6 Production – 6pm-7pm
URL:https://nutfieldchurchprimary.co.uk/event/year-6-production-6pm-7pm-2/
END:VEVENT
BEGIN:VEVENT
DTSTART;VALUE=DATE:20250716
DTEND;VALUE=DATE:20250717
DTSTAMP:20260421T214255
CREATED:20241216T113345Z
LAST-MODIFIED:20250512T123046Z
UID:23606-1752624000-1752710399@nutfieldchurchprimary.co.uk
SUMMARY:Wellbeing Wednesday TBC
DESCRIPTION:Wellbeing Wednesday TBC
URL:https://nutfieldchurchprimary.co.uk/event/wellbeing-wednesday-yr/
END:VEVENT
END:VCALENDAR