BEGIN:VCALENDAR
VERSION:2.0
PRODID:-//Nutfield Church Primary School - ECPv5.16.4//NONSGML v1.0//EN
CALSCALE:GREGORIAN
METHOD:PUBLISH
X-WR-CALNAME:Nutfield Church Primary School
X-ORIGINAL-URL:https://nutfieldchurchprimary.co.uk
X-WR-CALDESC:Events for Nutfield Church Primary School
REFRESH-INTERVAL;VALUE=DURATION:PT1H
X-Robots-Tag:noindex
X-PUBLISHED-TTL:PT1H
BEGIN:VTIMEZONE
TZID:UTC
BEGIN:STANDARD
TZOFFSETFROM:+0000
TZOFFSETTO:+0000
TZNAME:UTC
DTSTART:20250101T000000
END:STANDARD
END:VTIMEZONE
BEGIN:VEVENT
DTSTART;VALUE=DATE:20251128
DTEND;VALUE=DATE:20251129
DTSTAMP:20260421T160551
CREATED:20251024T112612Z
LAST-MODIFIED:20251024T112612Z
UID:29169-1764288000-1764374399@nutfieldchurchprimary.co.uk
SUMMARY:Happy School Bag Collection
DESCRIPTION:Happy School Bag Collection
URL:https://nutfieldchurchprimary.co.uk/event/happy-school-bag-collection-3/
END:VEVENT
END:VCALENDAR