BEGIN:VCALENDAR
VERSION:2.0
PRODID:-//Nutfield Church Primary School - ECPv5.16.4//NONSGML v1.0//EN
CALSCALE:GREGORIAN
METHOD:PUBLISH
X-ORIGINAL-URL:https://nutfieldchurchprimary.co.uk
X-WR-CALDESC:Events for Nutfield Church Primary School
REFRESH-INTERVAL;VALUE=DURATION:PT1H
X-Robots-Tag:noindex
X-PUBLISHED-TTL:PT1H
BEGIN:VTIMEZONE
TZID:UTC
BEGIN:STANDARD
TZOFFSETFROM:+0000
TZOFFSETTO:+0000
TZNAME:UTC
DTSTART:20250101T000000
END:STANDARD
END:VTIMEZONE
BEGIN:VEVENT
DTSTART;VALUE=DATE:20251222
DTEND;VALUE=DATE:20260105
DTSTAMP:20260421T143045
CREATED:20250721T065135Z
LAST-MODIFIED:20250721T065228Z
UID:27591-1766361600-1767571199@nutfieldchurchprimary.co.uk
SUMMARY:Christmas Break - School Closed
DESCRIPTION:Christmas Break – School Closed
URL:https://nutfieldchurchprimary.co.uk/event/christmas-break-school-closed/
END:VEVENT
END:VCALENDAR