BEGIN:VCALENDAR
VERSION:2.0
PRODID:-//Nutfield Church Primary School - ECPv5.16.4//NONSGML v1.0//EN
CALSCALE:GREGORIAN
METHOD:PUBLISH
X-WR-CALNAME:Nutfield Church Primary School
X-ORIGINAL-URL:https://nutfieldchurchprimary.co.uk
X-WR-CALDESC:Events for Nutfield Church Primary School
REFRESH-INTERVAL;VALUE=DURATION:PT1H
X-Robots-Tag:noindex
X-PUBLISHED-TTL:PT1H
BEGIN:VTIMEZONE
TZID:UTC
BEGIN:STANDARD
TZOFFSETFROM:+0000
TZOFFSETTO:+0000
TZNAME:UTC
DTSTART:20260101T000000
END:STANDARD
END:VTIMEZONE
BEGIN:VEVENT
DTSTART;VALUE=DATE:20260204
DTEND;VALUE=DATE:20260205
DTSTAMP:20260421T113432
CREATED:20250909T103819Z
LAST-MODIFIED:20250909T103819Z
UID:28134-1770163200-1770249599@nutfieldchurchprimary.co.uk
SUMMARY:Year 6 Collective Worship - 9:05am
DESCRIPTION:Year 6 Collective Worship – 9:05am
URL:https://nutfieldchurchprimary.co.uk/event/year-6-collective-worship-905am/
END:VEVENT
BEGIN:VEVENT
DTSTART;VALUE=DATE:20260204
DTEND;VALUE=DATE:20260205
DTSTAMP:20260421T113432
CREATED:20260116T104456Z
LAST-MODIFIED:20260116T104456Z
UID:29946-1770163200-1770249599@nutfieldchurchprimary.co.uk
SUMMARY:Year 1 Wellbeing Wednesday
DESCRIPTION:Year 1 Wellbeing Wednesday
URL:https://nutfieldchurchprimary.co.uk/event/year-1-wellbeing-wednesday-3/
END:VEVENT
END:VCALENDAR