BEGIN:VCALENDAR
VERSION:2.0
PRODID:-//Nutfield Church Primary School - ECPv5.16.4//NONSGML v1.0//EN
CALSCALE:GREGORIAN
METHOD:PUBLISH
X-ORIGINAL-URL:https://nutfieldchurchprimary.co.uk
X-WR-CALDESC:Events for Nutfield Church Primary School
REFRESH-INTERVAL;VALUE=DURATION:PT1H
X-Robots-Tag:noindex
X-PUBLISHED-TTL:PT1H
BEGIN:VTIMEZONE
TZID:UTC
BEGIN:STANDARD
TZOFFSETFROM:+0000
TZOFFSETTO:+0000
TZNAME:UTC
DTSTART:20260101T000000
END:STANDARD
END:VTIMEZONE
BEGIN:VEVENT
DTSTART;VALUE=DATE:20260302
DTEND;VALUE=DATE:20260303
DTSTAMP:20260421T100743
CREATED:20250909T104027Z
LAST-MODIFIED:20250909T104027Z
UID:28138-1772409600-1772495999@nutfieldchurchprimary.co.uk
SUMMARY:St. David’s Day - Wear Yellow
DESCRIPTION:St. David’s Day – Wear Yellow
URL:https://nutfieldchurchprimary.co.uk/event/st-davids-day-wear-yellow/
END:VEVENT
BEGIN:VEVENT
DTSTART;VALUE=DATE:20260302
DTEND;VALUE=DATE:20260307
DTSTAMP:20260421T100743
CREATED:20250909T104050Z
LAST-MODIFIED:20250909T104050Z
UID:28140-1772409600-1772841599@nutfieldchurchprimary.co.uk
SUMMARY:Book Week
DESCRIPTION:Book Week
URL:https://nutfieldchurchprimary.co.uk/event/book-week/
END:VEVENT
BEGIN:VEVENT
DTSTART;VALUE=DATE:20260302
DTEND;VALUE=DATE:20260303
DTSTAMP:20260421T100743
CREATED:20250909T104136Z
LAST-MODIFIED:20250909T104136Z
UID:28142-1772409600-1772495999@nutfieldchurchprimary.co.uk
SUMMARY:Bishop’s Lent Appeal Launch - W/C 2nd March 2025
DESCRIPTION:Bishop’s Lent Appeal Launch – W/C 2nd March 2025
URL:https://nutfieldchurchprimary.co.uk/event/bishops-lent-appeal-launch-w-c-2nd-march-2025/
END:VEVENT
END:VCALENDAR