BEGIN:VCALENDAR
VERSION:2.0
PRODID:-//Nutfield Church Primary School - ECPv5.16.4//NONSGML v1.0//EN
CALSCALE:GREGORIAN
METHOD:PUBLISH
X-ORIGINAL-URL:https://nutfieldchurchprimary.co.uk
X-WR-CALDESC:Events for Nutfield Church Primary School
REFRESH-INTERVAL;VALUE=DURATION:PT1H
X-Robots-Tag:noindex
X-PUBLISHED-TTL:PT1H
BEGIN:VTIMEZONE
TZID:UTC
BEGIN:STANDARD
TZOFFSETFROM:+0000
TZOFFSETTO:+0000
TZNAME:UTC
DTSTART:20260101T000000
END:STANDARD
END:VTIMEZONE
BEGIN:VEVENT
DTSTART;VALUE=DATE:20260323
DTEND;VALUE=DATE:20260328
DTSTAMP:20260421T100744
CREATED:20250909T104541Z
LAST-MODIFIED:20250909T104541Z
UID:28158-1774224000-1774655999@nutfieldchurchprimary.co.uk
SUMMARY:SSA Parent and Carer Evenings - W/C 23rd March
DESCRIPTION:SSA Parent and Carer Evenings – W/C 23rd March
URL:https://nutfieldchurchprimary.co.uk/event/ssa-parent-and-carer-evenings-w-c-23rd-march/
END:VEVENT
BEGIN:VEVENT
DTSTART;VALUE=DATE:20260326
DTEND;VALUE=DATE:20260327
DTSTAMP:20260421T100744
CREATED:20250909T104615Z
LAST-MODIFIED:20251204T130145Z
UID:28160-1774483200-1774569599@nutfieldchurchprimary.co.uk
SUMMARY:Easter Concert - 6pm - 7pm
DESCRIPTION:Easter Concert – 6pm – 7pm
URL:https://nutfieldchurchprimary.co.uk/event/easter-concert-6pm-7pm/
END:VEVENT
END:VCALENDAR