BEGIN:VCALENDAR
VERSION:2.0
PRODID:-//Nutfield Church Primary School - ECPv5.16.4//NONSGML v1.0//EN
CALSCALE:GREGORIAN
METHOD:PUBLISH
X-WR-CALNAME:Nutfield Church Primary School
X-ORIGINAL-URL:https://nutfieldchurchprimary.co.uk
X-WR-CALDESC:Events for Nutfield Church Primary School
REFRESH-INTERVAL;VALUE=DURATION:PT1H
X-Robots-Tag:noindex
X-PUBLISHED-TTL:PT1H
BEGIN:VTIMEZONE
TZID:UTC
BEGIN:STANDARD
TZOFFSETFROM:+0000
TZOFFSETTO:+0000
TZNAME:UTC
DTSTART:20260101T000000
END:STANDARD
END:VTIMEZONE
BEGIN:VEVENT
DTSTART;VALUE=DATE:20260601
DTEND;VALUE=DATE:20260612
DTSTAMP:20260421T113347
CREATED:20250909T105651Z
LAST-MODIFIED:20260206T091441Z
UID:28180-1780272000-1781222399@nutfieldchurchprimary.co.uk
SUMMARY:Multiplication Tables Check
DESCRIPTION:Multiplication Tables Check
URL:https://nutfieldchurchprimary.co.uk/event/multiplication-tables-check/
END:VEVENT
BEGIN:VEVENT
DTSTART;VALUE=DATE:20260608
DTEND;VALUE=DATE:20260613
DTSTAMP:20260421T113347
CREATED:20250909T105724Z
LAST-MODIFIED:20250909T105724Z
UID:28182-1780876800-1781308799@nutfieldchurchprimary.co.uk
SUMMARY:Phonics Screening Check
DESCRIPTION:Phonics Screening Check
URL:https://nutfieldchurchprimary.co.uk/event/phonics-screening-check/
END:VEVENT
BEGIN:VEVENT
DTSTART;VALUE=DATE:20260610
DTEND;VALUE=DATE:20260611
DTSTAMP:20260421T113347
CREATED:20260206T091553Z
LAST-MODIFIED:20260206T091553Z
UID:30402-1781049600-1781135999@nutfieldchurchprimary.co.uk
SUMMARY:Year 2 Wellbeing Wednesday
DESCRIPTION:Year 2 Wellbeing Wednesday
URL:https://nutfieldchurchprimary.co.uk/event/year-2-wellbeing-wednesday-5/
END:VEVENT
BEGIN:VEVENT
DTSTART;VALUE=DATE:20260610
DTEND;VALUE=DATE:20260613
DTSTAMP:20260421T113347
CREATED:20260206T091629Z
LAST-MODIFIED:20260206T091629Z
UID:30404-1781049600-1781308799@nutfieldchurchprimary.co.uk
SUMMARY:Year 5 – Activity Days - Aqua Sports
DESCRIPTION:Year 5 – Activity Days – Aqua Sports
URL:https://nutfieldchurchprimary.co.uk/event/year-5-activity-days-aqua-sports-3/
END:VEVENT
END:VCALENDAR