BEGIN:VCALENDAR
VERSION:2.0
PRODID:-//Nutfield Church Primary School - ECPv5.16.4//NONSGML v1.0//EN
CALSCALE:GREGORIAN
METHOD:PUBLISH
X-ORIGINAL-URL:https://nutfieldchurchprimary.co.uk
X-WR-CALDESC:Events for Nutfield Church Primary School
REFRESH-INTERVAL;VALUE=DURATION:PT1H
X-Robots-Tag:noindex
X-PUBLISHED-TTL:PT1H
BEGIN:VTIMEZONE
TZID:UTC
BEGIN:STANDARD
TZOFFSETFROM:+0000
TZOFFSETTO:+0000
TZNAME:UTC
DTSTART:20260101T000000
END:STANDARD
END:VTIMEZONE
BEGIN:VEVENT
DTSTART;VALUE=DATE:20260701
DTEND;VALUE=DATE:20260702
DTSTAMP:20260421T113601
CREATED:20250909T110439Z
LAST-MODIFIED:20260202T102931Z
UID:28194-1782864000-1782950399@nutfieldchurchprimary.co.uk
SUMMARY:‘Welcome To School’ meeting - 12pm - 3pm
DESCRIPTION:‘Welcome To School’ meeting for 2026-2027 – 12pm – 3pm
URL:https://nutfieldchurchprimary.co.uk/event/welcome-to-school-meeting-12pm-3pm/
END:VEVENT
BEGIN:VEVENT
DTSTART;VALUE=DATE:20260701
DTEND;VALUE=DATE:20260702
DTSTAMP:20260421T113601
CREATED:20250909T110506Z
LAST-MODIFIED:20260202T103141Z
UID:28196-1782864000-1782950399@nutfieldchurchprimary.co.uk
SUMMARY:Transition Day
DESCRIPTION:‘Meet Your New Teacher’ Day
URL:https://nutfieldchurchprimary.co.uk/event/transition-day-2/
END:VEVENT
END:VCALENDAR