BEGIN:VCALENDAR
VERSION:2.0
PRODID:-//Nutfield Church Primary School - ECPv5.16.4//NONSGML v1.0//EN
CALSCALE:GREGORIAN
METHOD:PUBLISH
X-WR-CALNAME:Nutfield Church Primary School
X-ORIGINAL-URL:https://nutfieldchurchprimary.co.uk
X-WR-CALDESC:Events for Nutfield Church Primary School
REFRESH-INTERVAL;VALUE=DURATION:PT1H
X-Robots-Tag:noindex
X-PUBLISHED-TTL:PT1H
BEGIN:VTIMEZONE
TZID:UTC
BEGIN:STANDARD
TZOFFSETFROM:+0000
TZOFFSETTO:+0000
TZNAME:UTC
DTSTART:20260101T000000
END:STANDARD
END:VTIMEZONE
BEGIN:VEVENT
DTSTART;VALUE=DATE:20260706
DTEND;VALUE=DATE:20260707
DTSTAMP:20260421T172738
CREATED:20250909T110828Z
LAST-MODIFIED:20250909T110828Z
UID:28204-1783296000-1783382399@nutfieldchurchprimary.co.uk
SUMMARY:Art Exhibition Day 1 (1:30pm - 4:15pm)
DESCRIPTION:Art Exhibition Day 1 (1:30pm – 4:15pm)
URL:https://nutfieldchurchprimary.co.uk/event/art-exhibition-day-1-130pm-415pm/
END:VEVENT
END:VCALENDAR