BEGIN:VCALENDAR
VERSION:2.0
PRODID:-//Nutfield Church Primary School - ECPv5.16.4//NONSGML v1.0//EN
CALSCALE:GREGORIAN
METHOD:PUBLISH
X-WR-CALNAME:Nutfield Church Primary School
X-ORIGINAL-URL:https://nutfieldchurchprimary.co.uk
X-WR-CALDESC:Events for Nutfield Church Primary School
REFRESH-INTERVAL;VALUE=DURATION:PT1H
X-Robots-Tag:noindex
X-PUBLISHED-TTL:PT1H
BEGIN:VTIMEZONE
TZID:UTC
BEGIN:STANDARD
TZOFFSETFROM:+0000
TZOFFSETTO:+0000
TZNAME:UTC
DTSTART:20250101T000000
END:STANDARD
END:VTIMEZONE
BEGIN:VEVENT
DTSTART;VALUE=DATE:20250909
DTEND;VALUE=DATE:20250910
DTSTAMP:20260421T234055
CREATED:20250909T101422Z
LAST-MODIFIED:20250909T101422Z
UID:28062-1757376000-1757462399@nutfieldchurchprimary.co.uk
SUMMARY:Year 3 – Meet the Teacher: 3.25pm – 4.15pm – Classroom
DESCRIPTION:Year 3 – Meet the Teacher: 3.25pm – 4.15pm – Classroom
URL:https://nutfieldchurchprimary.co.uk/event/year-3-meet-the-teacher-3-25pm-4-15pm-classroom/
END:VEVENT
BEGIN:VEVENT
DTSTART;VALUE=DATE:20250909
DTEND;VALUE=DATE:20250910
DTSTAMP:20260421T234055
CREATED:20250909T101346Z
LAST-MODIFIED:20250909T101346Z
UID:28060-1757376000-1757462399@nutfieldchurchprimary.co.uk
SUMMARY:Year R – Group 2 start
DESCRIPTION:Year R – Group 2 start
URL:https://nutfieldchurchprimary.co.uk/event/year-r-group-2-start-2/
END:VEVENT
BEGIN:VEVENT
DTSTART;VALUE=DATE:20250908
DTEND;VALUE=DATE:20250909
DTSTAMP:20260421T234055
CREATED:20250909T101317Z
LAST-MODIFIED:20250909T101317Z
UID:28058-1757289600-1757375999@nutfieldchurchprimary.co.uk
SUMMARY:Year 2 – Meet the Teacher: 3.25pm – 4.15pm – Classroom
DESCRIPTION:Year 2 – Meet the Teacher: 3.25pm – 4.15pm – Classroom
URL:https://nutfieldchurchprimary.co.uk/event/year-2-meet-the-teacher-3-25pm-4-15pm-classroom/
END:VEVENT
BEGIN:VEVENT
DTSTART;VALUE=DATE:20250908
DTEND;VALUE=DATE:20250913
DTSTAMP:20260421T234055
CREATED:20250909T100954Z
LAST-MODIFIED:20250909T101242Z
UID:28055-1757289600-1757721599@nutfieldchurchprimary.co.uk
SUMMARY:Year R – Group 1 start
DESCRIPTION:Year R – Group 1 start
URL:https://nutfieldchurchprimary.co.uk/event/assessment-week-y2-6/
END:VEVENT
BEGIN:VEVENT
DTSTART;VALUE=DATE:20250905
DTEND;VALUE=DATE:20250906
DTSTAMP:20260421T234055
CREATED:20250721T064640Z
LAST-MODIFIED:20250721T064640Z
UID:27581-1757030400-1757116799@nutfieldchurchprimary.co.uk
SUMMARY:Children return to school
DESCRIPTION:Children return to school
URL:https://nutfieldchurchprimary.co.uk/event/children-return-to-school/
END:VEVENT
BEGIN:VEVENT
DTSTART;VALUE=DATE:20250904
DTEND;VALUE=DATE:20250905
DTSTAMP:20260421T234055
CREATED:20241216T113520Z
LAST-MODIFIED:20241216T113520Z
UID:23612-1756944000-1757030399@nutfieldchurchprimary.co.uk
SUMMARY:INSET Day - School Closed
DESCRIPTION:INSET Day – School Closed
URL:https://nutfieldchurchprimary.co.uk/event/inset-day-school-closed-9/
END:VEVENT
BEGIN:VEVENT
DTSTART;VALUE=DATE:20250903
DTEND;VALUE=DATE:20250904
DTSTAMP:20260421T234055
CREATED:20241216T113505Z
LAST-MODIFIED:20241216T113505Z
UID:23610-1756857600-1756943999@nutfieldchurchprimary.co.uk
SUMMARY:INSET Day - School Closed
DESCRIPTION:INSET Day – School Closed
URL:https://nutfieldchurchprimary.co.uk/event/inset-day-school-closed-8/
END:VEVENT
BEGIN:VEVENT
DTSTART;VALUE=DATE:20250718
DTEND;VALUE=DATE:20250719
DTSTAMP:20260421T234055
CREATED:20241216T113411Z
LAST-MODIFIED:20241216T113411Z
UID:23608-1752796800-1752883199@nutfieldchurchprimary.co.uk
SUMMARY:Leavers’ Service Christchurch: 09:30am
DESCRIPTION:Leavers’ Service Christchurch: 09:30am
URL:https://nutfieldchurchprimary.co.uk/event/leavers-service-christchurch-0930am/
END:VEVENT
BEGIN:VEVENT
DTSTART;VALUE=DATE:20250716
DTEND;VALUE=DATE:20250717
DTSTAMP:20260421T234055
CREATED:20241216T113345Z
LAST-MODIFIED:20250512T123046Z
UID:23606-1752624000-1752710399@nutfieldchurchprimary.co.uk
SUMMARY:Wellbeing Wednesday TBC
DESCRIPTION:Wellbeing Wednesday TBC
URL:https://nutfieldchurchprimary.co.uk/event/wellbeing-wednesday-yr/
END:VEVENT
BEGIN:VEVENT
DTSTART;VALUE=DATE:20250716
DTEND;VALUE=DATE:20250717
DTSTAMP:20260421T234055
CREATED:20241216T113312Z
LAST-MODIFIED:20241216T113312Z
UID:23604-1752624000-1752710399@nutfieldchurchprimary.co.uk
SUMMARY:Year 6 Production - 6pm-7pm
DESCRIPTION:Year 6 Production – 6pm-7pm
URL:https://nutfieldchurchprimary.co.uk/event/year-6-production-6pm-7pm-2/
END:VEVENT
BEGIN:VEVENT
DTSTART;VALUE=DATE:20250715
DTEND;VALUE=DATE:20250716
DTSTAMP:20260421T234055
CREATED:20241216T113300Z
LAST-MODIFIED:20241216T113300Z
UID:23602-1752537600-1752623999@nutfieldchurchprimary.co.uk
SUMMARY:Year 6 Production - 6pm-7pm
DESCRIPTION:Year 6 Production – 6pm-7pm
URL:https://nutfieldchurchprimary.co.uk/event/year-6-production-6pm-7pm/
END:VEVENT
BEGIN:VEVENT
DTSTART;VALUE=DATE:20250714
DTEND;VALUE=DATE:20250715
DTSTAMP:20260421T234055
CREATED:20250429T114435Z
LAST-MODIFIED:20250429T114435Z
UID:25653-1752451200-1752537599@nutfieldchurchprimary.co.uk
SUMMARY:Year 1 Carnival dress up day
DESCRIPTION:Year 1 Carnival dress up day
URL:https://nutfieldchurchprimary.co.uk/event/year-1-carnival-dress-up-day/
END:VEVENT
BEGIN:VEVENT
DTSTART;VALUE=DATE:20250714
DTEND;VALUE=DATE:20250715
DTSTAMP:20260421T234055
CREATED:20241216T113230Z
LAST-MODIFIED:20241216T113230Z
UID:23600-1752451200-1752537599@nutfieldchurchprimary.co.uk
SUMMARY:Year 6 Production – dress rehearsal: 2pm-3pm
DESCRIPTION:Year 6 Production – dress rehearsal: 2pm-3pm
URL:https://nutfieldchurchprimary.co.uk/event/year-6-production-dress-rehearsal-2pm-3pm/
END:VEVENT
BEGIN:VEVENT
DTSTART;VALUE=DATE:20250711
DTEND;VALUE=DATE:20250712
DTSTAMP:20260421T234056
CREATED:20241216T113014Z
LAST-MODIFIED:20241216T113014Z
UID:23598-1752192000-1752278399@nutfieldchurchprimary.co.uk
SUMMARY:PTFA Year R Cake Sale from 3:15pm
DESCRIPTION:PTFA Year R Cake Sale from 3:15pm
URL:https://nutfieldchurchprimary.co.uk/event/ptfa-year-r-cake-sale-from-315pm/
END:VEVENT
BEGIN:VEVENT
DTSTART;VALUE=DATE:20250710
DTEND;VALUE=DATE:20250711
DTSTAMP:20260421T234056
CREATED:20250429T114338Z
LAST-MODIFIED:20250429T114338Z
UID:25651-1752105600-1752191999@nutfieldchurchprimary.co.uk
SUMMARY:Year 1 Polka Theatre
DESCRIPTION:Year 1 Polka Theatre
URL:https://nutfieldchurchprimary.co.uk/event/year-1-polka-theatre/
END:VEVENT
BEGIN:VEVENT
DTSTART;VALUE=DATE:20250710
DTEND;VALUE=DATE:20250711
DTSTAMP:20260421T234056
CREATED:20241216T112935Z
LAST-MODIFIED:20241216T112935Z
UID:23596-1752105600-1752191999@nutfieldchurchprimary.co.uk
SUMMARY:Summer Concert: 6.00-7.00pm
DESCRIPTION:Summer Concert: 6.00-7.00pm
URL:https://nutfieldchurchprimary.co.uk/event/summer-concert-6-00-7-00pm/
END:VEVENT
BEGIN:VEVENT
DTSTART;VALUE=DATE:20250709
DTEND;VALUE=DATE:20250710
DTSTAMP:20260421T234056
CREATED:20241216T112857Z
LAST-MODIFIED:20250512T122847Z
UID:23594-1752019200-1752105599@nutfieldchurchprimary.co.uk
SUMMARY:Wellbeing Wednesday YrR
DESCRIPTION:Wellbeing Wednesday YrR
URL:https://nutfieldchurchprimary.co.uk/event/wellbeing-wednesday-yr1/
END:VEVENT
BEGIN:VEVENT
DTSTART;VALUE=DATE:20250708
DTEND;VALUE=DATE:20250709
DTSTAMP:20260421T234056
CREATED:20241216T112832Z
LAST-MODIFIED:20241216T112832Z
UID:23592-1751932800-1752019199@nutfieldchurchprimary.co.uk
SUMMARY:Open Evening: 3.15-4.15pm
DESCRIPTION:Open Evening: 3.15-4.15pm
URL:https://nutfieldchurchprimary.co.uk/event/open-evening-3-15-4-15pm/
END:VEVENT
BEGIN:VEVENT
DTSTART;VALUE=DATE:20250708
DTEND;VALUE=DATE:20250709
DTSTAMP:20260421T234056
CREATED:20241216T112729Z
LAST-MODIFIED:20250630T123445Z
UID:23590-1751932800-1752019199@nutfieldchurchprimary.co.uk
SUMMARY:Art Exhibition: 3.15-4.15pm
DESCRIPTION:Art Exhibition: 3.15-4.15pm
URL:https://nutfieldchurchprimary.co.uk/event/art-exhibition-1-30-4-15pm-2/
END:VEVENT
BEGIN:VEVENT
DTSTART;VALUE=DATE:20250707
DTEND;VALUE=DATE:20250708
DTSTAMP:20260421T234056
CREATED:20241216T112717Z
LAST-MODIFIED:20241216T112717Z
UID:23588-1751846400-1751932799@nutfieldchurchprimary.co.uk
SUMMARY:Art Exhibition: 1.30-4.15pm
DESCRIPTION:Art Exhibition: 1.30-4.15pm
URL:https://nutfieldchurchprimary.co.uk/event/art-exhibition-1-30-4-15pm/
END:VEVENT
BEGIN:VEVENT
DTSTART;VALUE=DATE:20250705
DTEND;VALUE=DATE:20250706
DTSTAMP:20260421T234056
CREATED:20241216T112608Z
LAST-MODIFIED:20241216T112608Z
UID:23586-1751673600-1751759999@nutfieldchurchprimary.co.uk
SUMMARY:PTFA Summer Garden Party: 12.00pm-3.00pm - School
DESCRIPTION:PTFA Summer Garden Party: 12.00pm-3.00pm – School
URL:https://nutfieldchurchprimary.co.uk/event/ptfa-summer-garden-party-12-00pm-3-00pm-school/
END:VEVENT
BEGIN:VEVENT
DTSTART;VALUE=DATE:20250704
DTEND;VALUE=DATE:20250705
DTSTAMP:20260421T234056
CREATED:20240715T104238Z
LAST-MODIFIED:20240715T104238Z
UID:21466-1751587200-1751673599@nutfieldchurchprimary.co.uk
SUMMARY:INSET Day 2024-25 - Friday 4th July 2025
DESCRIPTION:INSET Day 2024-25 – Friday 4th July 2025
URL:https://nutfieldchurchprimary.co.uk/event/inset-day-2024-25-friday-4th-july-2025/
END:VEVENT
BEGIN:VEVENT
DTSTART;VALUE=DATE:20250703
DTEND;VALUE=DATE:20250704
DTSTAMP:20260421T234056
CREATED:20241216T110950Z
LAST-MODIFIED:20241216T110950Z
UID:23583-1751500800-1751587199@nutfieldchurchprimary.co.uk
SUMMARY:Reserve Sports Day 1.15pm-3.15pm
DESCRIPTION:Reserve Sports Day 1.15pm-3.15pm
URL:https://nutfieldchurchprimary.co.uk/event/reserve-sports-day-1-15pm-3-15pm/
END:VEVENT
BEGIN:VEVENT
DTSTART;VALUE=DATE:20250702
DTEND;VALUE=DATE:20250703
DTSTAMP:20260421T234056
CREATED:20241216T110918Z
LAST-MODIFIED:20241216T110918Z
UID:23581-1751414400-1751500799@nutfieldchurchprimary.co.uk
SUMMARY:Transition Day
DESCRIPTION:Transition Day
URL:https://nutfieldchurchprimary.co.uk/event/transition-day/
END:VEVENT
BEGIN:VEVENT
DTSTART;VALUE=DATE:20250702
DTEND;VALUE=DATE:20250703
DTSTAMP:20260421T234056
CREATED:20241216T110854Z
LAST-MODIFIED:20241216T110854Z
UID:23579-1751414400-1751500799@nutfieldchurchprimary.co.uk
SUMMARY:‘Welcome To School’ meeting (Reception 2025): 2.00-3.00pm - Hall
DESCRIPTION:‘Welcome To School’ meeting (Reception 2025): 2.00-3.00pm – Hall
URL:https://nutfieldchurchprimary.co.uk/event/welcome-to-school-meeting-reception-2025-2-00-3-00pm-hall/
END:VEVENT
BEGIN:VEVENT
DTSTART;VALUE=DATE:20250702
DTEND;VALUE=DATE:20250703
DTSTAMP:20260421T234056
CREATED:20241216T110729Z
LAST-MODIFIED:20250429T114157Z
UID:23577-1751414400-1751500799@nutfieldchurchprimary.co.uk
SUMMARY:Wellbeing Wednesday Y6
DESCRIPTION:Wellbeing Wednesday Y6
URL:https://nutfieldchurchprimary.co.uk/event/wellbeing-wednesday-y2/
END:VEVENT
BEGIN:VEVENT
DTSTART;VALUE=DATE:20250627
DTEND;VALUE=DATE:20250628
DTSTAMP:20260421T234056
CREATED:20241216T110703Z
LAST-MODIFIED:20241216T110703Z
UID:23575-1750982400-1751068799@nutfieldchurchprimary.co.uk
SUMMARY:Indian Dance Workshop (Yr 3 and 4)
DESCRIPTION:Indian Dance Workshop (Yr 3 and 4)
URL:https://nutfieldchurchprimary.co.uk/event/indian-dance-workshop-yr-3-and-4/
END:VEVENT
BEGIN:VEVENT
DTSTART;VALUE=DATE:20250626
DTEND;VALUE=DATE:20250627
DTSTAMP:20260421T234056
CREATED:20241216T110644Z
LAST-MODIFIED:20241216T110644Z
UID:23573-1750896000-1750982399@nutfieldchurchprimary.co.uk
SUMMARY:Sports Day
DESCRIPTION:Sports Day
URL:https://nutfieldchurchprimary.co.uk/event/sports-day/
END:VEVENT
BEGIN:VEVENT
DTSTART;VALUE=DATE:20250625
DTEND;VALUE=DATE:20250626
DTSTAMP:20260421T234056
CREATED:20250429T114107Z
LAST-MODIFIED:20250429T114107Z
UID:25647-1750809600-1750895999@nutfieldchurchprimary.co.uk
SUMMARY:Year 2 & 3 Polka Theatre
DESCRIPTION:Year 2 & 3 Polka Theatre
URL:https://nutfieldchurchprimary.co.uk/event/year-2-3-polka-theatre/
END:VEVENT
BEGIN:VEVENT
DTSTART;VALUE=DATE:20250625
DTEND;VALUE=DATE:20250626
DTSTAMP:20260421T234056
CREATED:20241216T110619Z
LAST-MODIFIED:20250429T124358Z
UID:23571-1750809600-1750895999@nutfieldchurchprimary.co.uk
SUMMARY:Wellbeing Wednesday Yr 1
DESCRIPTION:Wellbeing Wednesday Yr 1
URL:https://nutfieldchurchprimary.co.uk/event/wellbeing-wednesday-yr-3-8/
END:VEVENT
END:VCALENDAR