BEGIN:VCALENDAR
VERSION:2.0
PRODID:-//Nutfield Church Primary School - ECPv5.16.4//NONSGML v1.0//EN
CALSCALE:GREGORIAN
METHOD:PUBLISH
X-WR-CALNAME:Nutfield Church Primary School
X-ORIGINAL-URL:https://nutfieldchurchprimary.co.uk
X-WR-CALDESC:Events for Nutfield Church Primary School
REFRESH-INTERVAL;VALUE=DURATION:PT1H
X-Robots-Tag:noindex
X-PUBLISHED-TTL:PT1H
BEGIN:VTIMEZONE
TZID:UTC
BEGIN:STANDARD
TZOFFSETFROM:+0000
TZOFFSETTO:+0000
TZNAME:UTC
DTSTART:20250101T000000
END:STANDARD
END:VTIMEZONE
BEGIN:VEVENT
DTSTART;VALUE=DATE:20260225
DTEND;VALUE=DATE:20260226
DTSTAMP:20260421T192146
CREATED:20260116T104921Z
LAST-MODIFIED:20260116T104921Z
UID:29954-1771977600-1772063999@nutfieldchurchprimary.co.uk
SUMMARY:Year 6 Wellbeing Wednesday
DESCRIPTION:Year 6 Wellbeing Wednesday
URL:https://nutfieldchurchprimary.co.uk/event/year-6-wellbeing-wednesday-3/
END:VEVENT
BEGIN:VEVENT
DTSTART;VALUE=DATE:20260224
DTEND;VALUE=DATE:20260225
DTSTAMP:20260421T192146
CREATED:20250909T103950Z
LAST-MODIFIED:20250909T103950Z
UID:28136-1771891200-1771977599@nutfieldchurchprimary.co.uk
SUMMARY:KS2 SATs meeting - 3:15pm - 4:15pm (year 6 classroom)
DESCRIPTION:KS2 SATs meeting – 3:15pm – 4:15pm (year 6 classroom)
URL:https://nutfieldchurchprimary.co.uk/event/ks2-sats-meeting-315pm-415pm-year-6-classroom/
END:VEVENT
BEGIN:VEVENT
DTSTART;VALUE=DATE:20260223
DTEND;VALUE=DATE:20260224
DTSTAMP:20260421T192146
CREATED:20260206T085647Z
LAST-MODIFIED:20260206T093543Z
UID:30373-1771804800-1771891199@nutfieldchurchprimary.co.uk
SUMMARY:Year 2 Chinese Day
DESCRIPTION:Year 2 Chinese Day
URL:https://nutfieldchurchprimary.co.uk/event/year-2-chinese-day/
END:VEVENT
BEGIN:VEVENT
DTSTART;VALUE=DATE:20260211
DTEND;VALUE=DATE:20260212
DTSTAMP:20260421T192146
CREATED:20260116T104709Z
LAST-MODIFIED:20260116T104709Z
UID:29952-1770768000-1770854399@nutfieldchurchprimary.co.uk
SUMMARY:Year R Wellbeing Wednesday
DESCRIPTION:Year R Wellbeing Wednesday
URL:https://nutfieldchurchprimary.co.uk/event/year-r-wellbeing-wednesday-2/
END:VEVENT
BEGIN:VEVENT
DTSTART;VALUE=DATE:20260210
DTEND;VALUE=DATE:20260211
DTSTAMP:20260421T192146
CREATED:20260116T104621Z
LAST-MODIFIED:20260116T104621Z
UID:29950-1770681600-1770767999@nutfieldchurchprimary.co.uk
SUMMARY:Year 5 Trip to Rose Theatre
DESCRIPTION:Year 5 Trip to Rose Theatre
URL:https://nutfieldchurchprimary.co.uk/event/year-5-trip-to-rose-theatre/
END:VEVENT
BEGIN:VEVENT
DTSTART;VALUE=DATE:20260206
DTEND;VALUE=DATE:20260207
DTSTAMP:20260421T192146
CREATED:20260116T104531Z
LAST-MODIFIED:20260116T104531Z
UID:29948-1770336000-1770422399@nutfieldchurchprimary.co.uk
SUMMARY:PTFA Year 4 Cake Sale
DESCRIPTION:PTFA Year 4 Cake Sale
URL:https://nutfieldchurchprimary.co.uk/event/ptfa-year-4-cake-sale/
END:VEVENT
BEGIN:VEVENT
DTSTART;VALUE=DATE:20260204
DTEND;VALUE=DATE:20260205
DTSTAMP:20260421T192146
CREATED:20260116T104456Z
LAST-MODIFIED:20260116T104456Z
UID:29946-1770163200-1770249599@nutfieldchurchprimary.co.uk
SUMMARY:Year 1 Wellbeing Wednesday
DESCRIPTION:Year 1 Wellbeing Wednesday
URL:https://nutfieldchurchprimary.co.uk/event/year-1-wellbeing-wednesday-3/
END:VEVENT
BEGIN:VEVENT
DTSTART;VALUE=DATE:20260204
DTEND;VALUE=DATE:20260205
DTSTAMP:20260421T192146
CREATED:20250909T103819Z
LAST-MODIFIED:20250909T103819Z
UID:28134-1770163200-1770249599@nutfieldchurchprimary.co.uk
SUMMARY:Year 6 Collective Worship - 9:05am
DESCRIPTION:Year 6 Collective Worship – 9:05am
URL:https://nutfieldchurchprimary.co.uk/event/year-6-collective-worship-905am/
END:VEVENT
BEGIN:VEVENT
DTSTART;VALUE=DATE:20260130
DTEND;VALUE=DATE:20260131
DTSTAMP:20260421T192146
CREATED:20260116T104414Z
LAST-MODIFIED:20260116T104414Z
UID:29944-1769731200-1769817599@nutfieldchurchprimary.co.uk
SUMMARY:PTFA KS2 Disco (Years 3-6) 17.15pm-18.15pm
DESCRIPTION:PTFA KS2 Disco (Years 3-6) 17.15pm-18.15pm
URL:https://nutfieldchurchprimary.co.uk/event/ptfa-ks2-disco-years-3-6-17-15pm-18-15pm/
END:VEVENT
BEGIN:VEVENT
DTSTART;VALUE=DATE:20260130
DTEND;VALUE=DATE:20260131
DTSTAMP:20260421T192146
CREATED:20260116T104349Z
LAST-MODIFIED:20260116T104349Z
UID:29942-1769731200-1769817599@nutfieldchurchprimary.co.uk
SUMMARY:PTFA KS1 Disco (Years R-2) 16.00pm-17.00pm
DESCRIPTION:PTFA KS1 Disco (Years R-2) 16.00pm-17.00pm
URL:https://nutfieldchurchprimary.co.uk/event/ptfa-ks1-disco-years-r-2-16-00pm-17-00pm/
END:VEVENT
BEGIN:VEVENT
DTSTART;VALUE=DATE:20260129
DTEND;VALUE=DATE:20260130
DTSTAMP:20260421T192146
CREATED:20260116T104301Z
LAST-MODIFIED:20260116T104301Z
UID:29940-1769644800-1769731199@nutfieldchurchprimary.co.uk
SUMMARY:Happy School Bag Collection
DESCRIPTION:Happy School Bag Collection
URL:https://nutfieldchurchprimary.co.uk/event/happy-school-bag-collection-4/
END:VEVENT
BEGIN:VEVENT
DTSTART;VALUE=DATE:20260129
DTEND;VALUE=DATE:20260130
DTSTAMP:20260421T192146
CREATED:20260116T104229Z
LAST-MODIFIED:20260116T104229Z
UID:29938-1769644800-1769731199@nutfieldchurchprimary.co.uk
SUMMARY:Year R & Year 5 Wonderdome
DESCRIPTION:Year R & Year 5 Wonderdome
URL:https://nutfieldchurchprimary.co.uk/event/year-r-year-5-wonderdome/
END:VEVENT
BEGIN:VEVENT
DTSTART;VALUE=DATE:20260128
DTEND;VALUE=DATE:20260129
DTSTAMP:20260421T192146
CREATED:20260116T104155Z
LAST-MODIFIED:20260116T104155Z
UID:29936-1769558400-1769644799@nutfieldchurchprimary.co.uk
SUMMARY:Year 2 Wellbeing Wednesday
DESCRIPTION:Year 2 Wellbeing Wednesday
URL:https://nutfieldchurchprimary.co.uk/event/year-2-wellbeing-wednesday-3/
END:VEVENT
BEGIN:VEVENT
DTSTART;VALUE=DATE:20260128
DTEND;VALUE=DATE:20260129
DTSTAMP:20260421T192146
CREATED:20250909T103754Z
LAST-MODIFIED:20250909T103754Z
UID:28132-1769558400-1769644799@nutfieldchurchprimary.co.uk
SUMMARY:Year 4 Collective Worship - 9:05am
DESCRIPTION:Year 4 Collective Worship – 9:05am
URL:https://nutfieldchurchprimary.co.uk/event/year-4-collective-worship-905am-2/
END:VEVENT
BEGIN:VEVENT
DTSTART;VALUE=DATE:20260121
DTEND;VALUE=DATE:20260122
DTSTAMP:20260421T192146
CREATED:20250909T103722Z
LAST-MODIFIED:20250909T103722Z
UID:28130-1768953600-1769039999@nutfieldchurchprimary.co.uk
SUMMARY:Year 5 Collective Worship - 9:05am
DESCRIPTION:Year 5 Collective Worship – 9:05am
URL:https://nutfieldchurchprimary.co.uk/event/year-5-collective-worship-905am-2/
END:VEVENT
BEGIN:VEVENT
DTSTART;VALUE=DATE:20260105
DTEND;VALUE=DATE:20260110
DTSTAMP:20260421T192146
CREATED:20250909T103310Z
LAST-MODIFIED:20250909T103310Z
UID:28128-1767571200-1768003199@nutfieldchurchprimary.co.uk
SUMMARY:Love Project Launch week
DESCRIPTION:Love Project Launch week
URL:https://nutfieldchurchprimary.co.uk/event/love-project-launch-week-3/
END:VEVENT
BEGIN:VEVENT
DTSTART;VALUE=DATE:20260105
DTEND;VALUE=DATE:20260106
DTSTAMP:20260421T192146
CREATED:20250721T065258Z
LAST-MODIFIED:20250721T065258Z
UID:27593-1767571200-1767657599@nutfieldchurchprimary.co.uk
SUMMARY:Children return to school
DESCRIPTION:Children return to school
URL:https://nutfieldchurchprimary.co.uk/event/children-return-to-school-3/
END:VEVENT
BEGIN:VEVENT
DTSTART;VALUE=DATE:20251222
DTEND;VALUE=DATE:20260105
DTSTAMP:20260421T192146
CREATED:20250721T065135Z
LAST-MODIFIED:20250721T065228Z
UID:27591-1766361600-1767571199@nutfieldchurchprimary.co.uk
SUMMARY:Christmas Break - School Closed
DESCRIPTION:Christmas Break – School Closed
URL:https://nutfieldchurchprimary.co.uk/event/christmas-break-school-closed/
END:VEVENT
BEGIN:VEVENT
DTSTART;VALUE=DATE:20251219
DTEND;VALUE=DATE:20251220
DTSTAMP:20260421T192146
CREATED:20250721T065034Z
LAST-MODIFIED:20250721T065034Z
UID:27589-1766102400-1766188799@nutfieldchurchprimary.co.uk
SUMMARY:Last day of term
DESCRIPTION:Last day of term
URL:https://nutfieldchurchprimary.co.uk/event/last-day-of-term-3/
END:VEVENT
BEGIN:VEVENT
DTSTART;VALUE=DATE:20251218
DTEND;VALUE=DATE:20251219
DTSTAMP:20260421T192146
CREATED:20251024T113014Z
LAST-MODIFIED:20251024T113014Z
UID:29179-1766016000-1766102399@nutfieldchurchprimary.co.uk
SUMMARY:PTFA Christmas Fair - 3.15pm -5.30pm
DESCRIPTION:PTFA Christmas Fair – 3.15pm -5.30pm
URL:https://nutfieldchurchprimary.co.uk/event/ptfa-christmas-fair-3-15pm-5-30pm-2/
END:VEVENT
BEGIN:VEVENT
DTSTART;VALUE=DATE:20251218
DTEND;VALUE=DATE:20251219
DTSTAMP:20260421T192146
CREATED:20250909T103243Z
LAST-MODIFIED:20251203T090256Z
UID:28126-1766016000-1766102399@nutfieldchurchprimary.co.uk
SUMMARY:Christmas Service at Christ Church - 9:30am - 11am
DESCRIPTION:Christmas Service at Christ Church – 9:30am – 11am
URL:https://nutfieldchurchprimary.co.uk/event/christmas-service-at-christ-church-930am-11am/
END:VEVENT
BEGIN:VEVENT
DTSTART;VALUE=DATE:20251217
DTEND;VALUE=DATE:20251218
DTSTAMP:20260421T192146
CREATED:20250915T074102Z
LAST-MODIFIED:20250915T074102Z
UID:28284-1765929600-1766015999@nutfieldchurchprimary.co.uk
SUMMARY:Year 6 Wellbeing Wednesday
DESCRIPTION:Year 6 Wellbeing Wednesday
URL:https://nutfieldchurchprimary.co.uk/event/year-6-wellbeing-wednesday-2/
END:VEVENT
BEGIN:VEVENT
DTSTART;VALUE=DATE:20251217
DTEND;VALUE=DATE:20251218
DTSTAMP:20260421T192146
CREATED:20250909T103209Z
LAST-MODIFIED:20250909T103209Z
UID:28124-1765929600-1766015999@nutfieldchurchprimary.co.uk
SUMMARY:Christmas Lunch 12pm
DESCRIPTION:Christmas Lunch 12pm
URL:https://nutfieldchurchprimary.co.uk/event/christmas-lunch-12pm/
END:VEVENT
BEGIN:VEVENT
DTSTART;VALUE=DATE:20251216
DTEND;VALUE=DATE:20251217
DTSTAMP:20260421T192146
CREATED:20250909T103140Z
LAST-MODIFIED:20250909T103140Z
UID:28122-1765843200-1765929599@nutfieldchurchprimary.co.uk
SUMMARY:Christmas Concert: 6pm - 7pm
DESCRIPTION:Christmas Concert: 6pm – 7pm
URL:https://nutfieldchurchprimary.co.uk/event/christmas-concert-6pm-7pm/
END:VEVENT
BEGIN:VEVENT
DTSTART;VALUE=DATE:20251211
DTEND;VALUE=DATE:20251212
DTSTAMP:20260421T192146
CREATED:20251024T112852Z
LAST-MODIFIED:20251024T112852Z
UID:29177-1765411200-1765497599@nutfieldchurchprimary.co.uk
SUMMARY:Whole School Nasal Flu Vaccination/Yr R  and 6 Heights and Weights
DESCRIPTION:Whole School Nasal Flu Vaccination/Yr R\nand 6 Heights and Weights
URL:https://nutfieldchurchprimary.co.uk/event/whole-school-nasal-flu-vaccination-yr-r-and-6-heights-and-weights/
END:VEVENT
BEGIN:VEVENT
DTSTART;VALUE=DATE:20251210
DTEND;VALUE=DATE:20251211
DTSTAMP:20260421T192146
CREATED:20250915T074040Z
LAST-MODIFIED:20250915T074040Z
UID:28282-1765324800-1765411199@nutfieldchurchprimary.co.uk
SUMMARY:Year R Wellbeing Wednesday
DESCRIPTION:Year R Wellbeing Wednesday
URL:https://nutfieldchurchprimary.co.uk/event/year-r-wellbeing-wednesday/
END:VEVENT
BEGIN:VEVENT
DTSTART;VALUE=DATE:20251210
DTEND;VALUE=DATE:20251211
DTSTAMP:20260421T192146
CREATED:20250909T103102Z
LAST-MODIFIED:20251001T091116Z
UID:28120-1765324800-1765411199@nutfieldchurchprimary.co.uk
SUMMARY:Nativity Performance - 2pm - 3pm
DESCRIPTION:Nativity Performance – 2pm – 3pm
URL:https://nutfieldchurchprimary.co.uk/event/nativity-performance-2pm-3pm-2/
END:VEVENT
BEGIN:VEVENT
DTSTART;VALUE=DATE:20251209
DTEND;VALUE=DATE:20251210
DTSTAMP:20260421T192146
CREATED:20250909T103048Z
LAST-MODIFIED:20251001T091050Z
UID:28118-1765238400-1765324799@nutfieldchurchprimary.co.uk
SUMMARY:Nativity Performance - 2pm - 3pm
DESCRIPTION:Nativity Performance – 2pm – 3pm
URL:https://nutfieldchurchprimary.co.uk/event/nativity-performance-2pm-3pm/
END:VEVENT
BEGIN:VEVENT
DTSTART;VALUE=DATE:20251208
DTEND;VALUE=DATE:20251209
DTSTAMP:20260421T192146
CREATED:20250909T103014Z
LAST-MODIFIED:20251001T091019Z
UID:28116-1765152000-1765238399@nutfieldchurchprimary.co.uk
SUMMARY:Nativity Dress Rehearsal - 2pm - 3pm
DESCRIPTION:Nativity Dress Rehearsal – 2pm – 3pm
URL:https://nutfieldchurchprimary.co.uk/event/nativity-dress-rehearsal-2pm-3pm/
END:VEVENT
BEGIN:VEVENT
DTSTART;VALUE=DATE:20251205
DTEND;VALUE=DATE:20251206
DTSTAMP:20260421T192146
CREATED:20251024T112804Z
LAST-MODIFIED:20251024T112804Z
UID:29175-1764892800-1764979199@nutfieldchurchprimary.co.uk
SUMMARY:PTFA Non-uniform Day – Sweets for  Christmas Fair
DESCRIPTION:PTFA Non-uniform Day – Sweets for\nChristmas Fair
URL:https://nutfieldchurchprimary.co.uk/event/ptfa-non-uniform-day-sweets-for-christmas-fair-2/
END:VEVENT
END:VCALENDAR