BEGIN:VCALENDAR
VERSION:2.0
PRODID:-//Nutfield Church Primary School - ECPv5.16.4//NONSGML v1.0//EN
CALSCALE:GREGORIAN
METHOD:PUBLISH
X-ORIGINAL-URL:https://nutfieldchurchprimary.co.uk
X-WR-CALDESC:Events for Nutfield Church Primary School
REFRESH-INTERVAL;VALUE=DURATION:PT1H
X-Robots-Tag:noindex
X-PUBLISHED-TTL:PT1H
BEGIN:VTIMEZONE
TZID:UTC
BEGIN:STANDARD
TZOFFSETFROM:+0000
TZOFFSETTO:+0000
TZNAME:UTC
DTSTART:20250101T000000
END:STANDARD
END:VTIMEZONE
BEGIN:VEVENT
DTSTART;VALUE=DATE:20250423
DTEND;VALUE=DATE:20250424
DTSTAMP:20260422T223908
CREATED:20241118T135338Z
LAST-MODIFIED:20241118T135338Z
UID:22829-1745366400-1745452799@nutfieldchurchprimary.co.uk
SUMMARY:St. George’s day – red shirt
DESCRIPTION:St. George’s day – red shirt
URL:https://nutfieldchurchprimary.co.uk/event/st-georges-day-red-shirt/
END:VEVENT
BEGIN:VEVENT
DTSTART;VALUE=DATE:20250423
DTEND;VALUE=DATE:20250424
DTSTAMP:20260422T223908
CREATED:20241118T135407Z
LAST-MODIFIED:20241118T135407Z
UID:22831-1745366400-1745452799@nutfieldchurchprimary.co.uk
SUMMARY:Year 6 (2025/26) residential meeting	Wednesday 23rd April – 3.15pm – 4pm (Y6 classroom)
DESCRIPTION:Year 6 (2025/26) residential meeting\nWednesday 23rd April – 3.15pm – 4pm (Y6 classroom)
URL:https://nutfieldchurchprimary.co.uk/event/year-6-2025-26-residential-meetingwednesday-23rd-april-3-15pm-4pm-y6-classroom/
END:VEVENT
BEGIN:VEVENT
DTSTART;VALUE=DATE:20250424
DTEND;VALUE=DATE:20250425
DTSTAMP:20260422T223908
CREATED:20241118T135431Z
LAST-MODIFIED:20241118T135431Z
UID:22833-1745452800-1745539199@nutfieldchurchprimary.co.uk
SUMMARY:Year 4 MTC Meeting	Thursday 24th April 3.15-4.15pm (Y4 classroom)
DESCRIPTION:Year 4 MTC Meeting\nThursday 24th April 3.15-4.15pm (Y4 classroom)
URL:https://nutfieldchurchprimary.co.uk/event/year-4-mtc-meetingthursday-24th-april-3-15-4-15pm-y4-classroom/
END:VEVENT
BEGIN:VEVENT
DTSTART;VALUE=DATE:20250425
DTEND;VALUE=DATE:20250426
DTSTAMP:20260422T223908
CREATED:20241118T135458Z
LAST-MODIFIED:20241118T135458Z
UID:22835-1745539200-1745625599@nutfieldchurchprimary.co.uk
SUMMARY:PTFA Year 3 Cake Sale	Friday 25th April – 3.15pm-3.45pm
DESCRIPTION:PTFA Year 3 Cake Sale\nFriday 25th April – 3.15pm-3.45pm
URL:https://nutfieldchurchprimary.co.uk/event/ptfa-year-3-cake-salefriday-25th-april-3-15pm-3-45pm/
END:VEVENT
BEGIN:VEVENT
DTSTART;VALUE=DATE:20250430
DTEND;VALUE=DATE:20250501
DTSTAMP:20260422T223908
CREATED:20241118T135517Z
LAST-MODIFIED:20250429T113111Z
UID:22837-1745971200-1746057599@nutfieldchurchprimary.co.uk
SUMMARY:Wellbeing Wednesday Yr R
DESCRIPTION:Wellbeing Wednesday Yr R
URL:https://nutfieldchurchprimary.co.uk/event/wellbeing-wednesday-yr-1-6/
END:VEVENT
BEGIN:VEVENT
DTSTART;VALUE=DATE:20250506
DTEND;VALUE=DATE:20250507
DTSTAMP:20260422T223908
CREATED:20241216T104617Z
LAST-MODIFIED:20241216T104617Z
UID:23543-1746489600-1746575999@nutfieldchurchprimary.co.uk
SUMMARY:Year R Mobile Zoo Visit
DESCRIPTION:Year R Mobile Zoo Visit
URL:https://nutfieldchurchprimary.co.uk/event/year-r-mobile-zoo-visit/
END:VEVENT
BEGIN:VEVENT
DTSTART;VALUE=DATE:20250506
DTEND;VALUE=DATE:20250507
DTSTAMP:20260422T223908
CREATED:20250429T124512Z
LAST-MODIFIED:20250429T124512Z
UID:25660-1746489600-1746575999@nutfieldchurchprimary.co.uk
SUMMARY:Year 1 visit to Sutton & District United Synagogue
DESCRIPTION:Year 1 visit to Sutton & District United Synagogue
URL:https://nutfieldchurchprimary.co.uk/event/year-1-visit-to-sutton-district-united-synagogue/
END:VEVENT
BEGIN:VEVENT
DTSTART;VALUE=DATE:20250507
DTEND;VALUE=DATE:20250508
DTSTAMP:20260422T223908
CREATED:20241118T135849Z
LAST-MODIFIED:20250429T114903Z
UID:22839-1746576000-1746662399@nutfieldchurchprimary.co.uk
SUMMARY:Wellbeing Wednesday Yr 4
DESCRIPTION:Wellbeing Wednesday Yr 4
URL:https://nutfieldchurchprimary.co.uk/event/wellbeing-wednesday-yr-r-9/
END:VEVENT
BEGIN:VEVENT
DTSTART;VALUE=DATE:20250508
DTEND;VALUE=DATE:20250509
DTSTAMP:20260422T223908
CREATED:20241118T135904Z
LAST-MODIFIED:20241118T135904Z
UID:22841-1746662400-1746748799@nutfieldchurchprimary.co.uk
SUMMARY:Happy School Bag Collection
DESCRIPTION:Happy School Bag Collection
URL:https://nutfieldchurchprimary.co.uk/event/happy-school-bag-collection-2/
END:VEVENT
BEGIN:VEVENT
DTSTART;VALUE=DATE:20250509
DTEND;VALUE=DATE:20250510
DTSTAMP:20260422T223908
CREATED:20241216T104641Z
LAST-MODIFIED:20241216T104641Z
UID:23545-1746748800-1746835199@nutfieldchurchprimary.co.uk
SUMMARY:School Photographs - Groups
DESCRIPTION:School Photographs – Groups
URL:https://nutfieldchurchprimary.co.uk/event/school-photographs-groups/
END:VEVENT
BEGIN:VEVENT
DTSTART;VALUE=DATE:20250514
DTEND;VALUE=DATE:20250515
DTSTAMP:20260422T223908
CREATED:20250429T113303Z
LAST-MODIFIED:20250429T113313Z
UID:25636-1747180800-1747267199@nutfieldchurchprimary.co.uk
SUMMARY:Wellbeing Wednesday Yr 5
DESCRIPTION:Wellbeing Wednesday Yr  5
URL:https://nutfieldchurchprimary.co.uk/event/wellbeing-wednesday-yr-7/
END:VEVENT
BEGIN:VEVENT
DTSTART;VALUE=DATE:20250519
DTEND;VALUE=DATE:20250520
DTSTAMP:20260422T223908
CREATED:20250429T113459Z
LAST-MODIFIED:20250429T113459Z
UID:25639-1747612800-1747699199@nutfieldchurchprimary.co.uk
SUMMARY:Year 1 Victorian Day (Dress up day)
DESCRIPTION:Year 1 Victorian Day (Dress up day)
URL:https://nutfieldchurchprimary.co.uk/event/year-1-victorian-day-dress-up-day/
END:VEVENT
BEGIN:VEVENT
DTSTART;VALUE=DATE:20250521
DTEND;VALUE=DATE:20250522
DTSTAMP:20260422T223908
CREATED:20241118T140015Z
LAST-MODIFIED:20241118T140015Z
UID:22847-1747785600-1747871999@nutfieldchurchprimary.co.uk
SUMMARY:Year 1 Collective Worship - 9:05am
DESCRIPTION:Year 1 Collective Worship – 9:05am
URL:https://nutfieldchurchprimary.co.uk/event/year-1-collective-worship-905am/
END:VEVENT
BEGIN:VEVENT
DTSTART;VALUE=DATE:20250521
DTEND;VALUE=DATE:20250522
DTSTAMP:20260422T223908
CREATED:20250429T113546Z
LAST-MODIFIED:20250429T114920Z
UID:25641-1747785600-1747871999@nutfieldchurchprimary.co.uk
SUMMARY:Wellbeing Wednesday Yr 6
DESCRIPTION:Wellbeing Wednesday Yr 6
URL:https://nutfieldchurchprimary.co.uk/event/wellbeing-wednesday-yr-4-9/
END:VEVENT
BEGIN:VEVENT
DTSTART;VALUE=DATE:20250522
DTEND;VALUE=DATE:20250523
DTSTAMP:20260422T223908
CREATED:20241118T135929Z
LAST-MODIFIED:20241118T135929Z
UID:22843-1747872000-1747958399@nutfieldchurchprimary.co.uk
SUMMARY:PTFA Year 2 Cake Sale	Thursday 22nd May – 15.15pm-15.45pm
DESCRIPTION:PTFA Year 2 Cake Sale\nThursday 22nd May – 15.15pm-15.45pm
URL:https://nutfieldchurchprimary.co.uk/event/ptfa-year-2-cake-salethursday-22nd-may-15-15pm-15-45pm/
END:VEVENT
BEGIN:VEVENT
DTSTART;VALUE=DATE:20250602
DTEND;VALUE=DATE:20250603
DTSTAMP:20260422T223908
CREATED:20240715T104202Z
LAST-MODIFIED:20240715T104326Z
UID:21464-1748822400-1748908799@nutfieldchurchprimary.co.uk
SUMMARY:INSET Day 2024-25 - Monday 2nd June 2025
DESCRIPTION:INSET Day 2024-25 – Monday 2nd June 2025
URL:https://nutfieldchurchprimary.co.uk/event/inset-day-2024-25/
END:VEVENT
BEGIN:VEVENT
DTSTART;VALUE=DATE:20250604
DTEND;VALUE=DATE:20250605
DTSTAMP:20260422T223908
CREATED:20241216T105116Z
LAST-MODIFIED:20250429T113733Z
UID:23551-1748995200-1749081599@nutfieldchurchprimary.co.uk
SUMMARY:Wellbeing Wednesday Yr 3
DESCRIPTION:Wellbeing Wednesday Yr 3
URL:https://nutfieldchurchprimary.co.uk/event/wellbeing-wednesday-yr-6-8/
END:VEVENT
BEGIN:VEVENT
DTSTART;TZID=UTC:20250604T091500
DTEND;TZID=UTC:20250604T123000
DTSTAMP:20260422T223908
CREATED:20241216T104728Z
LAST-MODIFIED:20241216T104728Z
UID:23547-1749028500-1749040200@nutfieldchurchprimary.co.uk
SUMMARY:Year 5 Carrington School STEAM Morning
DESCRIPTION:Year 5 Carrington School STEAM Morning
URL:https://nutfieldchurchprimary.co.uk/event/year-5-carrington-school-steam-morning/
END:VEVENT
BEGIN:VEVENT
DTSTART;VALUE=DATE:20250606
DTEND;VALUE=DATE:20250607
DTSTAMP:20260422T223908
CREATED:20241216T105630Z
LAST-MODIFIED:20241216T105630Z
UID:23553-1749168000-1749254399@nutfieldchurchprimary.co.uk
SUMMARY:PTFA Non-Uniform Day – Sweets For Summer Garden Party
DESCRIPTION:PTFA Non-Uniform Day – Sweets For Summer Garden Party
URL:https://nutfieldchurchprimary.co.uk/event/ptfa-non-uniform-day-sweets-for-summer-garden-party/
END:VEVENT
BEGIN:VEVENT
DTSTART;VALUE=DATE:20250606
DTEND;VALUE=DATE:20250607
DTSTAMP:20260422T223908
CREATED:20241216T105729Z
LAST-MODIFIED:20241216T105729Z
UID:23555-1749168000-1749254399@nutfieldchurchprimary.co.uk
SUMMARY:PTFA Cinema Night - 3:15pm-5:15pm
DESCRIPTION:PTFA Cinema Night
URL:https://nutfieldchurchprimary.co.uk/event/ptfa-cinema-night-315pm-515pm/
END:VEVENT
BEGIN:VEVENT
DTSTART;VALUE=DATE:20250611
DTEND;VALUE=DATE:20250612
DTSTAMP:20260422T223908
CREATED:20241216T105756Z
LAST-MODIFIED:20250429T113815Z
UID:23557-1749600000-1749686399@nutfieldchurchprimary.co.uk
SUMMARY:Wellbeing Wednesday Yr 2
DESCRIPTION:Wellbeing Wednesday Yr 2
URL:https://nutfieldchurchprimary.co.uk/event/wellbeing-wednesday-yr-5-8/
END:VEVENT
BEGIN:VEVENT
DTSTART;VALUE=DATE:20250611
DTEND;VALUE=DATE:20250614
DTSTAMP:20260422T223908
CREATED:20241216T105825Z
LAST-MODIFIED:20241216T105825Z
UID:23559-1749600000-1749859199@nutfieldchurchprimary.co.uk
SUMMARY:Year 5 – Activity Days - Aqua Sports
DESCRIPTION:Year 5 – Activity Days – Aqua Sports
URL:https://nutfieldchurchprimary.co.uk/event/year-5-activity-days-aqua-sports-2/
END:VEVENT
BEGIN:VEVENT
DTSTART;VALUE=DATE:20250613
DTEND;VALUE=DATE:20250614
DTSTAMP:20260422T223908
CREATED:20241216T110151Z
LAST-MODIFIED:20241216T110151Z
UID:23561-1749772800-1749859199@nutfieldchurchprimary.co.uk
SUMMARY:PTFA Year 1 Cake Sale from 3:15pm
DESCRIPTION:PTFA Year 1 Cake Sale from 3:15pm
URL:https://nutfieldchurchprimary.co.uk/event/ptfa-year-1-cake-sale-from-315pm/
END:VEVENT
BEGIN:VEVENT
DTSTART;VALUE=DATE:20250618
DTEND;VALUE=DATE:20250619
DTSTAMP:20260422T223908
CREATED:20241216T110258Z
LAST-MODIFIED:20250429T124421Z
UID:23563-1750204800-1750291199@nutfieldchurchprimary.co.uk
SUMMARY:Wellbeing Wednesday Yr R
DESCRIPTION:Wellbeing Wednesday Yr R
URL:https://nutfieldchurchprimary.co.uk/event/wellbeing-wednesday-yr-4-8/
END:VEVENT
BEGIN:VEVENT
DTSTART;VALUE=DATE:20250620
DTEND;VALUE=DATE:20250621
DTSTAMP:20260422T223908
CREATED:20241216T110318Z
LAST-MODIFIED:20241216T110318Z
UID:23565-1750377600-1750463999@nutfieldchurchprimary.co.uk
SUMMARY:PTFA Wear Own Shoes Day – Bottles for Summer Garden Party
DESCRIPTION:PTFA Wear Own Shoes Day – Bottles for Summer Garden Party
URL:https://nutfieldchurchprimary.co.uk/event/ptfa-wear-own-shoes-day-bottles-for-summer-garden-party/
END:VEVENT
BEGIN:VEVENT
DTSTART;VALUE=DATE:20250623
DTEND;VALUE=DATE:20250628
DTSTAMP:20260422T223908
CREATED:20241118T135949Z
LAST-MODIFIED:20250515T105738Z
UID:22845-1750636800-1751068799@nutfieldchurchprimary.co.uk
SUMMARY:Sports and Activities Week
DESCRIPTION:Sports and Activities Week
URL:https://nutfieldchurchprimary.co.uk/event/sports-and-activities-week/
END:VEVENT
BEGIN:VEVENT
DTSTART;VALUE=DATE:20250624
DTEND;VALUE=DATE:20250625
DTSTAMP:20260422T223908
CREATED:20241216T104749Z
LAST-MODIFIED:20241216T104749Z
UID:23549-1750723200-1750809599@nutfieldchurchprimary.co.uk
SUMMARY:Year 2 visit to Woking Mosque
DESCRIPTION:Year 2 visit to Woking Mosque
URL:https://nutfieldchurchprimary.co.uk/event/year-2-visit-to-woking-mosque/
END:VEVENT
BEGIN:VEVENT
DTSTART;VALUE=DATE:20250625
DTEND;VALUE=DATE:20250626
DTSTAMP:20260422T223908
CREATED:20241216T110512Z
LAST-MODIFIED:20241216T110512Z
UID:23567-1750809600-1750895999@nutfieldchurchprimary.co.uk
SUMMARY:EYFS Collective Worship - 9:05am
DESCRIPTION:EYFS Collective Worship – 9:05am
URL:https://nutfieldchurchprimary.co.uk/event/eyfs-collective-worship-905am/
END:VEVENT
BEGIN:VEVENT
DTSTART;VALUE=DATE:20250625
DTEND;VALUE=DATE:20250626
DTSTAMP:20260422T223908
CREATED:20241216T110555Z
LAST-MODIFIED:20241216T110555Z
UID:23569-1750809600-1750895999@nutfieldchurchprimary.co.uk
SUMMARY:’Welcome to EYFS’ meeting (Reception 2025): 2.00-3.00pm - Hall
DESCRIPTION:’Welcome to EYFS’ meeting (Reception 2025): 2.00-3.00pm – Hall
URL:https://nutfieldchurchprimary.co.uk/event/welcome-to-eyfs-meeting-reception-2025-2-00-3-00pm-hall/
END:VEVENT
BEGIN:VEVENT
DTSTART;VALUE=DATE:20250625
DTEND;VALUE=DATE:20250626
DTSTAMP:20260422T223908
CREATED:20241216T110619Z
LAST-MODIFIED:20250429T124358Z
UID:23571-1750809600-1750895999@nutfieldchurchprimary.co.uk
SUMMARY:Wellbeing Wednesday Yr 1
DESCRIPTION:Wellbeing Wednesday Yr 1
URL:https://nutfieldchurchprimary.co.uk/event/wellbeing-wednesday-yr-3-8/
END:VEVENT
END:VCALENDAR