BEGIN:VCALENDAR
VERSION:2.0
PRODID:-//Nutfield Church Primary School - ECPv5.16.4//NONSGML v1.0//EN
CALSCALE:GREGORIAN
METHOD:PUBLISH
X-WR-CALNAME:Nutfield Church Primary School
X-ORIGINAL-URL:https://nutfieldchurchprimary.co.uk
X-WR-CALDESC:Events for Nutfield Church Primary School
REFRESH-INTERVAL;VALUE=DURATION:PT1H
X-Robots-Tag:noindex
X-PUBLISHED-TTL:PT1H
BEGIN:VTIMEZONE
TZID:UTC
BEGIN:STANDARD
TZOFFSETFROM:+0000
TZOFFSETTO:+0000
TZNAME:UTC
DTSTART:20250101T000000
END:STANDARD
END:VTIMEZONE
BEGIN:VEVENT
DTSTART;VALUE=DATE:20251024
DTEND;VALUE=DATE:20251025
DTSTAMP:20260421T235546
CREATED:20250721T064727Z
LAST-MODIFIED:20250721T064727Z
UID:27583-1761264000-1761350399@nutfieldchurchprimary.co.uk
SUMMARY:Last day of term
DESCRIPTION:Last day of term
URL:https://nutfieldchurchprimary.co.uk/event/last-day-of-term-2/
END:VEVENT
BEGIN:VEVENT
DTSTART;VALUE=DATE:20251022
DTEND;VALUE=DATE:20251023
DTSTAMP:20260421T235546
CREATED:20250915T073837Z
LAST-MODIFIED:20250915T073837Z
UID:28272-1761091200-1761177599@nutfieldchurchprimary.co.uk
SUMMARY:Year 6 Wellbeing Wednesday
DESCRIPTION:Year 6 Wellbeing Wednesday
URL:https://nutfieldchurchprimary.co.uk/event/year-6-wellbeing-wednesday/
END:VEVENT
BEGIN:VEVENT
DTSTART;VALUE=DATE:20251017
DTEND;VALUE=DATE:20251018
DTSTAMP:20260421T235546
CREATED:20250909T112128Z
LAST-MODIFIED:20250909T112128Z
UID:28226-1760659200-1760745599@nutfieldchurchprimary.co.uk
SUMMARY:Headteachers Tour Date: Friday 17th October 2025 – 1.30-2.30pm
DESCRIPTION:Headteachers Tour Date: Friday 17th October 2025 – 1.30-2.30pm
URL:https://nutfieldchurchprimary.co.uk/event/headteachers-tour-date-friday-17th-october-2025-1-30-2-30pm/
END:VEVENT
BEGIN:VEVENT
DTSTART;VALUE=DATE:20251016
DTEND;VALUE=DATE:20251017
DTSTAMP:20260421T235546
CREATED:20250909T102052Z
LAST-MODIFIED:20250909T102052Z
UID:28090-1760572800-1760659199@nutfieldchurchprimary.co.uk
SUMMARY:Harvest Service at Christ Church
DESCRIPTION:Harvest Service at Christ Church
URL:https://nutfieldchurchprimary.co.uk/event/harvest-service-at-christ-church-2/
END:VEVENT
BEGIN:VEVENT
DTSTART;VALUE=DATE:20251015
DTEND;VALUE=DATE:20251016
DTSTAMP:20260421T235546
CREATED:20250915T073820Z
LAST-MODIFIED:20250915T073820Z
UID:28270-1760486400-1760572799@nutfieldchurchprimary.co.uk
SUMMARY:Year 1 Wellbeing Wednesday
DESCRIPTION:Year 1 Wellbeing Wednesday
URL:https://nutfieldchurchprimary.co.uk/event/year-1-wellbeing-wednesday/
END:VEVENT
BEGIN:VEVENT
DTSTART;VALUE=DATE:20251008
DTEND;VALUE=DATE:20251009
DTSTAMP:20260421T235546
CREATED:20250915T073759Z
LAST-MODIFIED:20250915T073759Z
UID:28268-1759881600-1759967999@nutfieldchurchprimary.co.uk
SUMMARY:Year 2 Wellbeing Wednesday
DESCRIPTION:Year 2 Wellbeing Wednesday
URL:https://nutfieldchurchprimary.co.uk/event/year-2-wellbeing-wednesday/
END:VEVENT
BEGIN:VEVENT
DTSTART;VALUE=DATE:20251006
DTEND;VALUE=DATE:20251011
DTSTAMP:20260421T235546
CREATED:20250909T102019Z
LAST-MODIFIED:20250909T102019Z
UID:28088-1759708800-1760140799@nutfieldchurchprimary.co.uk
SUMMARY:Love Project Launch week
DESCRIPTION:Love Project Launch week
URL:https://nutfieldchurchprimary.co.uk/event/love-project-launch-week-2/
END:VEVENT
BEGIN:VEVENT
DTSTART;VALUE=DATE:20251003
DTEND;VALUE=DATE:20251004
DTSTAMP:20260421T235546
CREATED:20250909T112106Z
LAST-MODIFIED:20250909T112106Z
UID:28224-1759449600-1759535999@nutfieldchurchprimary.co.uk
SUMMARY:Headteachers Tour Date: Friday 3rd October 2025 – 1.45-2.45pm
DESCRIPTION:Headteachers Tour Date: Friday 3rd October 2025 – 1.45-2.45pm
URL:https://nutfieldchurchprimary.co.uk/event/headteachers-tour-date-friday-3rd-october-2025-1-45-2-45pm/
END:VEVENT
BEGIN:VEVENT
DTSTART;VALUE=DATE:20251001
DTEND;VALUE=DATE:20251002
DTSTAMP:20260421T235546
CREATED:20250915T073740Z
LAST-MODIFIED:20250915T073740Z
UID:28266-1759276800-1759363199@nutfieldchurchprimary.co.uk
SUMMARY:Year 4 Wellbeing Wednesday
DESCRIPTION:Year 4 Wellbeing Wednesday
URL:https://nutfieldchurchprimary.co.uk/event/year-4-wellbeing-wednesday/
END:VEVENT
BEGIN:VEVENT
DTSTART;VALUE=DATE:20250926
DTEND;VALUE=DATE:20250927
DTSTAMP:20260421T235546
CREATED:20250909T112047Z
LAST-MODIFIED:20250909T112047Z
UID:28222-1758844800-1758931199@nutfieldchurchprimary.co.uk
SUMMARY:Headteachers Tour Date: Friday 26th September 2025 – 1.30-2.30pm
DESCRIPTION:Headteachers Tour Date: Friday 26th September 2025 – 1.30-2.30pm
URL:https://nutfieldchurchprimary.co.uk/event/headteachers-tour-date-friday-26th-september-2025-1-30-2-30pm/
END:VEVENT
BEGIN:VEVENT
DTSTART;VALUE=DATE:20250924
DTEND;VALUE=DATE:20250925
DTSTAMP:20260421T235546
CREATED:20250915T073724Z
LAST-MODIFIED:20250915T073724Z
UID:28264-1758672000-1758758399@nutfieldchurchprimary.co.uk
SUMMARY:Year 3 Wellbeing Wednesday
DESCRIPTION:Year 3 Wellbeing Wednesday
URL:https://nutfieldchurchprimary.co.uk/event/year-3-wellbeing-wednesday/
END:VEVENT
BEGIN:VEVENT
DTSTART;VALUE=DATE:20250924
DTEND;VALUE=DATE:20250927
DTSTAMP:20260421T235546
CREATED:20250909T101944Z
LAST-MODIFIED:20250909T101944Z
UID:28086-1758672000-1758931199@nutfieldchurchprimary.co.uk
SUMMARY:Year 4 – Activity Days High Ashurst
DESCRIPTION:Year 4 – Activity Days High Ashurst
URL:https://nutfieldchurchprimary.co.uk/event/year-4-activity-days-high-ashurst-2/
END:VEVENT
BEGIN:VEVENT
DTSTART;VALUE=DATE:20250924
DTEND;VALUE=DATE:20250925
DTSTAMP:20260421T235546
CREATED:20250909T101924Z
LAST-MODIFIED:20250909T101924Z
UID:28084-1758672000-1758758399@nutfieldchurchprimary.co.uk
SUMMARY:Year R - Phonics training: 3.30pm – 4.15pm Year R Classroom
DESCRIPTION:Year R – Phonics training: 3.30pm – 4.15pm Year R Classroom
URL:https://nutfieldchurchprimary.co.uk/event/year-r-phonics-training-3-30pm-4-15pm-year-r-classroom/
END:VEVENT
BEGIN:VEVENT
DTSTART;VALUE=DATE:20250922
DTEND;VALUE=DATE:20250923
DTSTAMP:20260421T235546
CREATED:20250909T101847Z
LAST-MODIFIED:20250909T101847Z
UID:28082-1758499200-1758585599@nutfieldchurchprimary.co.uk
SUMMARY:Start of Year Eucharist - Southwark 7pm
DESCRIPTION:Start of Year Eucharist – Southwark 7pm
URL:https://nutfieldchurchprimary.co.uk/event/start-of-year-eucharist-southwark-7pm/
END:VEVENT
BEGIN:VEVENT
DTSTART;VALUE=DATE:20250915
DTEND;VALUE=DATE:20250920
DTSTAMP:20260421T235546
CREATED:20250909T101806Z
LAST-MODIFIED:20250909T101806Z
UID:28080-1757894400-1758326399@nutfieldchurchprimary.co.uk
SUMMARY:Year 6 – Residential Trip – High Ashurst
DESCRIPTION:Year 6 – Residential Trip – High Ashurst
URL:https://nutfieldchurchprimary.co.uk/event/year-6-residential-trip-high-ashurst-2/
END:VEVENT
BEGIN:VEVENT
DTSTART;VALUE=DATE:20250912
DTEND;VALUE=DATE:20250913
DTSTAMP:20260421T235546
CREATED:20250909T112025Z
LAST-MODIFIED:20250909T112025Z
UID:28220-1757635200-1757721599@nutfieldchurchprimary.co.uk
SUMMARY:Headteachers Tour Date: Friday 12th September 2025 – 1.30-2.30pm
DESCRIPTION:Headteachers Tour Date: Friday 12th September 2025 – 1.30-2.30pm
URL:https://nutfieldchurchprimary.co.uk/event/headteachers-tour-date-friday-12th-september-2025-1-30-2-30pm/
END:VEVENT
BEGIN:VEVENT
DTSTART;VALUE=DATE:20250912
DTEND;VALUE=DATE:20250913
DTSTAMP:20260421T235546
CREATED:20250909T101747Z
LAST-MODIFIED:20250909T101747Z
UID:28078-1757635200-1757721599@nutfieldchurchprimary.co.uk
SUMMARY:Autumn Term Newsletters sent home
DESCRIPTION:Autumn Term Newsletters sent home
URL:https://nutfieldchurchprimary.co.uk/event/autumn-term-newsletters-sent-home/
END:VEVENT
BEGIN:VEVENT
DTSTART;VALUE=DATE:20250911
DTEND;VALUE=DATE:20250912
DTSTAMP:20260421T235546
CREATED:20250909T101723Z
LAST-MODIFIED:20250909T101723Z
UID:28076-1757548800-1757635199@nutfieldchurchprimary.co.uk
SUMMARY:Year R – Meet the Teacher: 3.25pm - 4.15pm - Classroom
DESCRIPTION:Year R – Meet the Teacher: 3.25pm – 4.15pm – Classroom
URL:https://nutfieldchurchprimary.co.uk/event/year-r-meet-the-teacher-3-25pm-4-15pm-classroom/
END:VEVENT
BEGIN:VEVENT
DTSTART;VALUE=DATE:20250911
DTEND;VALUE=DATE:20250912
DTSTAMP:20260421T235546
CREATED:20250909T101703Z
LAST-MODIFIED:20250909T101703Z
UID:28074-1757548800-1757635199@nutfieldchurchprimary.co.uk
SUMMARY:Year 6 – Meet the Teacher: 3.25pm - 4.15pm - Classroom
DESCRIPTION:Year 6 – Meet the Teacher: 3.25pm – 4.15pm – Classroom
URL:https://nutfieldchurchprimary.co.uk/event/year-6-meet-the-teacher-3-25pm-4-15pm-classroom/
END:VEVENT
BEGIN:VEVENT
DTSTART;VALUE=DATE:20250911
DTEND;VALUE=DATE:20250912
DTSTAMP:20260421T235546
CREATED:20250909T101633Z
LAST-MODIFIED:20250909T101633Z
UID:28072-1757548800-1757635199@nutfieldchurchprimary.co.uk
SUMMARY:Year R – Full time
DESCRIPTION:Year R – Full time
URL:https://nutfieldchurchprimary.co.uk/event/year-r-full-time-2/
END:VEVENT
BEGIN:VEVENT
DTSTART;VALUE=DATE:20250910
DTEND;VALUE=DATE:20250911
DTSTAMP:20260421T235546
CREATED:20250909T101555Z
LAST-MODIFIED:20250909T101555Z
UID:28070-1757462400-1757548799@nutfieldchurchprimary.co.uk
SUMMARY:Year R – Group 3 start
DESCRIPTION:Year R – Group 3 start
URL:https://nutfieldchurchprimary.co.uk/event/year-r-group-3-start-2/
END:VEVENT
BEGIN:VEVENT
DTSTART;VALUE=DATE:20250910
DTEND;VALUE=DATE:20250911
DTSTAMP:20260421T235546
CREATED:20250909T101534Z
LAST-MODIFIED:20250909T101534Z
UID:28068-1757462400-1757548799@nutfieldchurchprimary.co.uk
SUMMARY:Year 5 – Meet the Teacher: 3.25pm – 4.15pm – Classroom
DESCRIPTION:Year 5 – Meet the Teacher: 3.25pm – 4.15pm – Classroom
URL:https://nutfieldchurchprimary.co.uk/event/year-5-meet-the-teacher-3-25pm-4-15pm-classroom/
END:VEVENT
BEGIN:VEVENT
DTSTART;VALUE=DATE:20250910
DTEND;VALUE=DATE:20250911
DTSTAMP:20260421T235546
CREATED:20250909T101517Z
LAST-MODIFIED:20250909T101517Z
UID:28066-1757462400-1757548799@nutfieldchurchprimary.co.uk
SUMMARY:Year 1 – Meet the Teacher: 3.25pm – 4.15pm – Classroom
DESCRIPTION:Year 1 – Meet the Teacher: 3.25pm – 4.15pm – Classroom
URL:https://nutfieldchurchprimary.co.uk/event/year-1-meet-the-teacher-3-25pm-4-15pm-classroom-2/
END:VEVENT
BEGIN:VEVENT
DTSTART;VALUE=DATE:20250909
DTEND;VALUE=DATE:20250910
DTSTAMP:20260421T235546
CREATED:20250909T101442Z
LAST-MODIFIED:20250909T101442Z
UID:28064-1757376000-1757462399@nutfieldchurchprimary.co.uk
SUMMARY:Year 4 – Meet the Teacher: 3.25pm – 4.15pm – Classroom
DESCRIPTION:Year 4 – Meet the Teacher: 3.25pm – 4.15pm – Classroom
URL:https://nutfieldchurchprimary.co.uk/event/year-4-meet-the-teacher-3-25pm-4-15pm-classroom/
END:VEVENT
BEGIN:VEVENT
DTSTART;VALUE=DATE:20250909
DTEND;VALUE=DATE:20250910
DTSTAMP:20260421T235546
CREATED:20250909T101422Z
LAST-MODIFIED:20250909T101422Z
UID:28062-1757376000-1757462399@nutfieldchurchprimary.co.uk
SUMMARY:Year 3 – Meet the Teacher: 3.25pm – 4.15pm – Classroom
DESCRIPTION:Year 3 – Meet the Teacher: 3.25pm – 4.15pm – Classroom
URL:https://nutfieldchurchprimary.co.uk/event/year-3-meet-the-teacher-3-25pm-4-15pm-classroom/
END:VEVENT
BEGIN:VEVENT
DTSTART;VALUE=DATE:20250909
DTEND;VALUE=DATE:20250910
DTSTAMP:20260421T235546
CREATED:20250909T101346Z
LAST-MODIFIED:20250909T101346Z
UID:28060-1757376000-1757462399@nutfieldchurchprimary.co.uk
SUMMARY:Year R – Group 2 start
DESCRIPTION:Year R – Group 2 start
URL:https://nutfieldchurchprimary.co.uk/event/year-r-group-2-start-2/
END:VEVENT
BEGIN:VEVENT
DTSTART;VALUE=DATE:20250908
DTEND;VALUE=DATE:20250909
DTSTAMP:20260421T235546
CREATED:20250909T101317Z
LAST-MODIFIED:20250909T101317Z
UID:28058-1757289600-1757375999@nutfieldchurchprimary.co.uk
SUMMARY:Year 2 – Meet the Teacher: 3.25pm – 4.15pm – Classroom
DESCRIPTION:Year 2 – Meet the Teacher: 3.25pm – 4.15pm – Classroom
URL:https://nutfieldchurchprimary.co.uk/event/year-2-meet-the-teacher-3-25pm-4-15pm-classroom/
END:VEVENT
BEGIN:VEVENT
DTSTART;VALUE=DATE:20250908
DTEND;VALUE=DATE:20250913
DTSTAMP:20260421T235546
CREATED:20250909T100954Z
LAST-MODIFIED:20250909T101242Z
UID:28055-1757289600-1757721599@nutfieldchurchprimary.co.uk
SUMMARY:Year R – Group 1 start
DESCRIPTION:Year R – Group 1 start
URL:https://nutfieldchurchprimary.co.uk/event/assessment-week-y2-6/
END:VEVENT
BEGIN:VEVENT
DTSTART;VALUE=DATE:20250905
DTEND;VALUE=DATE:20250906
DTSTAMP:20260421T235546
CREATED:20250721T064640Z
LAST-MODIFIED:20250721T064640Z
UID:27581-1757030400-1757116799@nutfieldchurchprimary.co.uk
SUMMARY:Children return to school
DESCRIPTION:Children return to school
URL:https://nutfieldchurchprimary.co.uk/event/children-return-to-school/
END:VEVENT
BEGIN:VEVENT
DTSTART;VALUE=DATE:20250904
DTEND;VALUE=DATE:20250905
DTSTAMP:20260421T235546
CREATED:20241216T113520Z
LAST-MODIFIED:20241216T113520Z
UID:23612-1756944000-1757030399@nutfieldchurchprimary.co.uk
SUMMARY:INSET Day - School Closed
DESCRIPTION:INSET Day – School Closed
URL:https://nutfieldchurchprimary.co.uk/event/inset-day-school-closed-9/
END:VEVENT
END:VCALENDAR