BEGIN:VCALENDAR
VERSION:2.0
PRODID:-//Nutfield Church Primary School - ECPv5.16.4//NONSGML v1.0//EN
CALSCALE:GREGORIAN
METHOD:PUBLISH
X-WR-CALNAME:Nutfield Church Primary School
X-ORIGINAL-URL:https://nutfieldchurchprimary.co.uk
X-WR-CALDESC:Events for Nutfield Church Primary School
REFRESH-INTERVAL;VALUE=DURATION:PT1H
X-Robots-Tag:noindex
X-PUBLISHED-TTL:PT1H
BEGIN:VTIMEZONE
TZID:UTC
BEGIN:STANDARD
TZOFFSETFROM:+0000
TZOFFSETTO:+0000
TZNAME:UTC
DTSTART:20250101T000000
END:STANDARD
END:VTIMEZONE
BEGIN:VEVENT
DTSTART;VALUE=DATE:20251210
DTEND;VALUE=DATE:20251211
DTSTAMP:20260421T233953
CREATED:20250915T074040Z
LAST-MODIFIED:20250915T074040Z
UID:28282-1765324800-1765411199@nutfieldchurchprimary.co.uk
SUMMARY:Year R Wellbeing Wednesday
DESCRIPTION:Year R Wellbeing Wednesday
URL:https://nutfieldchurchprimary.co.uk/event/year-r-wellbeing-wednesday/
END:VEVENT
BEGIN:VEVENT
DTSTART;VALUE=DATE:20251210
DTEND;VALUE=DATE:20251211
DTSTAMP:20260421T233953
CREATED:20250909T103102Z
LAST-MODIFIED:20251001T091116Z
UID:28120-1765324800-1765411199@nutfieldchurchprimary.co.uk
SUMMARY:Nativity Performance - 2pm - 3pm
DESCRIPTION:Nativity Performance – 2pm – 3pm
URL:https://nutfieldchurchprimary.co.uk/event/nativity-performance-2pm-3pm-2/
END:VEVENT
BEGIN:VEVENT
DTSTART;VALUE=DATE:20251209
DTEND;VALUE=DATE:20251210
DTSTAMP:20260421T233953
CREATED:20250909T103048Z
LAST-MODIFIED:20251001T091050Z
UID:28118-1765238400-1765324799@nutfieldchurchprimary.co.uk
SUMMARY:Nativity Performance - 2pm - 3pm
DESCRIPTION:Nativity Performance – 2pm – 3pm
URL:https://nutfieldchurchprimary.co.uk/event/nativity-performance-2pm-3pm/
END:VEVENT
BEGIN:VEVENT
DTSTART;VALUE=DATE:20251208
DTEND;VALUE=DATE:20251209
DTSTAMP:20260421T233953
CREATED:20250909T103014Z
LAST-MODIFIED:20251001T091019Z
UID:28116-1765152000-1765238399@nutfieldchurchprimary.co.uk
SUMMARY:Nativity Dress Rehearsal - 2pm - 3pm
DESCRIPTION:Nativity Dress Rehearsal – 2pm – 3pm
URL:https://nutfieldchurchprimary.co.uk/event/nativity-dress-rehearsal-2pm-3pm/
END:VEVENT
BEGIN:VEVENT
DTSTART;VALUE=DATE:20251205
DTEND;VALUE=DATE:20251206
DTSTAMP:20260421T233953
CREATED:20251024T112804Z
LAST-MODIFIED:20251024T112804Z
UID:29175-1764892800-1764979199@nutfieldchurchprimary.co.uk
SUMMARY:PTFA Non-uniform Day – Sweets for  Christmas Fair
DESCRIPTION:PTFA Non-uniform Day – Sweets for\nChristmas Fair
URL:https://nutfieldchurchprimary.co.uk/event/ptfa-non-uniform-day-sweets-for-christmas-fair-2/
END:VEVENT
BEGIN:VEVENT
DTSTART;VALUE=DATE:20251203
DTEND;VALUE=DATE:20251204
DTSTAMP:20260421T233953
CREATED:20251024T112742Z
LAST-MODIFIED:20251024T112742Z
UID:29173-1764720000-1764806399@nutfieldchurchprimary.co.uk
SUMMARY:Year 1 Wellbeing Wednesday
DESCRIPTION:Year 1 Wellbeing Wednesday
URL:https://nutfieldchurchprimary.co.uk/event/year-1-wellbeing-wednesday-2/
END:VEVENT
BEGIN:VEVENT
DTSTART;VALUE=DATE:20251202
DTEND;VALUE=DATE:20251203
DTSTAMP:20260421T233953
CREATED:20251024T112652Z
LAST-MODIFIED:20251024T112652Z
UID:29171-1764633600-1764719999@nutfieldchurchprimary.co.uk
SUMMARY:Year 5 Trip to Tate Modern
DESCRIPTION:Year 5 Trip to Tate Modern
URL:https://nutfieldchurchprimary.co.uk/event/year-5-trip-to-tate-modern/
END:VEVENT
BEGIN:VEVENT
DTSTART;VALUE=DATE:20251201
DTEND;VALUE=DATE:20251202
DTSTAMP:20260421T233953
CREATED:20250909T102937Z
LAST-MODIFIED:20250909T102937Z
UID:28114-1764547200-1764633599@nutfieldchurchprimary.co.uk
SUMMARY:SSA Parent and Carer Evenings
DESCRIPTION:SSA Parent and Carer Evenings
URL:https://nutfieldchurchprimary.co.uk/event/ssa-parent-and-carer-evenings-2/
END:VEVENT
BEGIN:VEVENT
DTSTART;VALUE=DATE:20251201
DTEND;VALUE=DATE:20251202
DTSTAMP:20260421T233953
CREATED:20250909T102912Z
LAST-MODIFIED:20250909T102912Z
UID:28112-1764547200-1764633599@nutfieldchurchprimary.co.uk
SUMMARY:St. Andrew’s Day: wear blue shirt
DESCRIPTION:St. Andrew’s Day: wear blue shirt
URL:https://nutfieldchurchprimary.co.uk/event/st-andrews-day-wear-blue-shirt/
END:VEVENT
BEGIN:VEVENT
DTSTART;VALUE=DATE:20251128
DTEND;VALUE=DATE:20251129
DTSTAMP:20260421T233953
CREATED:20251024T112612Z
LAST-MODIFIED:20251024T112612Z
UID:29169-1764288000-1764374399@nutfieldchurchprimary.co.uk
SUMMARY:Happy School Bag Collection
DESCRIPTION:Happy School Bag Collection
URL:https://nutfieldchurchprimary.co.uk/event/happy-school-bag-collection-3/
END:VEVENT
BEGIN:VEVENT
DTSTART;VALUE=DATE:20251127
DTEND;VALUE=DATE:20251128
DTSTAMP:20260421T233953
CREATED:20250909T102822Z
LAST-MODIFIED:20250909T102822Z
UID:28110-1764201600-1764287999@nutfieldchurchprimary.co.uk
SUMMARY:Year 2 Sparkfish Christmas Journey - 9:30am
DESCRIPTION:Year 2 Sparkfish Christmas Journey – 9:30am
URL:https://nutfieldchurchprimary.co.uk/event/year-2-sparkfish-christmas-journey-930am/
END:VEVENT
BEGIN:VEVENT
DTSTART;VALUE=DATE:20251126
DTEND;VALUE=DATE:20251127
DTSTAMP:20260421T233953
CREATED:20251024T112528Z
LAST-MODIFIED:20251024T112528Z
UID:29167-1764115200-1764201599@nutfieldchurchprimary.co.uk
SUMMARY:Year 4 Trip to Polka Theatre
DESCRIPTION:Year 4 Trip to Polka Theatre
URL:https://nutfieldchurchprimary.co.uk/event/year-4-trip-to-polka-theatre/
END:VEVENT
BEGIN:VEVENT
DTSTART;VALUE=DATE:20251126
DTEND;VALUE=DATE:20251127
DTSTAMP:20260421T233953
CREATED:20250915T074015Z
LAST-MODIFIED:20250915T074015Z
UID:28280-1764115200-1764201599@nutfieldchurchprimary.co.uk
SUMMARY:Year 2 Wellbeing Wednesday
DESCRIPTION:Year 2 Wellbeing Wednesday
URL:https://nutfieldchurchprimary.co.uk/event/year-2-wellbeing-wednesday-2/
END:VEVENT
BEGIN:VEVENT
DTSTART;VALUE=DATE:20251126
DTEND;VALUE=DATE:20251127
DTSTAMP:20260421T233953
CREATED:20250909T102744Z
LAST-MODIFIED:20250909T102744Z
UID:28108-1764115200-1764201599@nutfieldchurchprimary.co.uk
SUMMARY:Parent and Carer Evenings: 3:30pm - 6pm
DESCRIPTION:Parent and Carer Evenings: 3:30pm – 6pm
URL:https://nutfieldchurchprimary.co.uk/event/parent-and-carer-evenings-330pm-6pm-3/
END:VEVENT
BEGIN:VEVENT
DTSTART;VALUE=DATE:20251125
DTEND;VALUE=DATE:20251126
DTSTAMP:20260421T233953
CREATED:20250909T102726Z
LAST-MODIFIED:20250909T102726Z
UID:28106-1764028800-1764115199@nutfieldchurchprimary.co.uk
SUMMARY:Parent and Carer Evenings: 3:30pm - 6pm
DESCRIPTION:Parent and Carer Evenings: 3:30pm – 6pm
URL:https://nutfieldchurchprimary.co.uk/event/parent-and-carer-evenings-330pm-6pm-2/
END:VEVENT
BEGIN:VEVENT
DTSTART;VALUE=DATE:20251124
DTEND;VALUE=DATE:20251125
DTSTAMP:20260421T233953
CREATED:20250909T102714Z
LAST-MODIFIED:20250909T102714Z
UID:28104-1763942400-1764028799@nutfieldchurchprimary.co.uk
SUMMARY:Parent and Carer Evenings: 3:30pm - 6pm
DESCRIPTION:Parent and Carer Evenings: 3:30pm – 6pm
URL:https://nutfieldchurchprimary.co.uk/event/parent-and-carer-evenings-330pm-6pm/
END:VEVENT
BEGIN:VEVENT
DTSTART;VALUE=DATE:20251119
DTEND;VALUE=DATE:20251120
DTSTAMP:20260421T233953
CREATED:20250915T073946Z
LAST-MODIFIED:20250915T073946Z
UID:28278-1763510400-1763596799@nutfieldchurchprimary.co.uk
SUMMARY:Year 3 Wellbeing Wednesday
DESCRIPTION:Year 3 Wellbeing Wednesday
URL:https://nutfieldchurchprimary.co.uk/event/year-3-wellbeing-wednesday-2/
END:VEVENT
BEGIN:VEVENT
DTSTART;VALUE=DATE:20251118
DTEND;VALUE=DATE:20251119
DTSTAMP:20260421T233953
CREATED:20250909T102535Z
LAST-MODIFIED:20250909T102535Z
UID:28102-1763424000-1763510399@nutfieldchurchprimary.co.uk
SUMMARY:School Photographer – Individual
DESCRIPTION:School Photographer – Individual
URL:https://nutfieldchurchprimary.co.uk/event/school-photographer-individual/
END:VEVENT
BEGIN:VEVENT
DTSTART;VALUE=DATE:20251114
DTEND;VALUE=DATE:20251115
DTSTAMP:20260421T233953
CREATED:20251103T115016Z
LAST-MODIFIED:20251103T115016Z
UID:29199-1763078400-1763164799@nutfieldchurchprimary.co.uk
SUMMARY:Headteachers Tour Date: Friday 14th November 2025 – 1.30-2.30pm
DESCRIPTION:Headteachers Tour Date: Friday 14th November 2025 – 1.30-2.30pm
URL:https://nutfieldchurchprimary.co.uk/event/headteachers-tour-date-friday-14th-november-2025-1-30-2-30pm/
END:VEVENT
BEGIN:VEVENT
DTSTART;VALUE=DATE:20251114
DTEND;VALUE=DATE:20251115
DTSTAMP:20260421T233953
CREATED:20251024T112408Z
LAST-MODIFIED:20251024T112408Z
UID:29165-1763078400-1763164799@nutfieldchurchprimary.co.uk
SUMMARY:PTFA Year 5 Cake Sale – 3.15pm-3.45pm
DESCRIPTION:PTFA Year 5 Cake Sale – 3.15pm-3.45pm
URL:https://nutfieldchurchprimary.co.uk/event/ptfa-year-5-cake-sale-3-15pm-3-45pm/
END:VEVENT
BEGIN:VEVENT
DTSTART;VALUE=DATE:20251112
DTEND;VALUE=DATE:20251113
DTSTAMP:20260421T233953
CREATED:20250915T073916Z
LAST-MODIFIED:20250915T073916Z
UID:28276-1762905600-1762991999@nutfieldchurchprimary.co.uk
SUMMARY:Year 4 Wellbeing Wednesday
DESCRIPTION:Year 4 Wellbeing Wednesday
URL:https://nutfieldchurchprimary.co.uk/event/year-4-wellbeing-wednesday-2/
END:VEVENT
BEGIN:VEVENT
DTSTART;VALUE=DATE:20251111
DTEND;VALUE=DATE:20251112
DTSTAMP:20260421T233953
CREATED:20250909T102308Z
LAST-MODIFIED:20250909T102308Z
UID:28098-1762819200-1762905599@nutfieldchurchprimary.co.uk
SUMMARY:Year One Phonics training: 3.30pm – 4.15pm – Classroom
DESCRIPTION:Year One Phonics training: 3.30pm – 4.15pm – Classroom
URL:https://nutfieldchurchprimary.co.uk/event/year-one-phonics-training-3-30pm-4-15pm-classroom/
END:VEVENT
BEGIN:VEVENT
DTSTART;VALUE=DATE:20251111
DTEND;VALUE=DATE:20251112
DTSTAMP:20260421T233953
CREATED:20250909T102238Z
LAST-MODIFIED:20250909T102238Z
UID:28096-1762819200-1762905599@nutfieldchurchprimary.co.uk
SUMMARY:Remembrance Service - 10:50am
DESCRIPTION:Remembrance Service – 10:50am
URL:https://nutfieldchurchprimary.co.uk/event/remembrance-service-1050am/
END:VEVENT
BEGIN:VEVENT
DTSTART;VALUE=DATE:20251110
DTEND;VALUE=DATE:20251115
DTSTAMP:20260421T233953
CREATED:20250909T102206Z
LAST-MODIFIED:20251110T105621Z
UID:28094-1762732800-1763164799@nutfieldchurchprimary.co.uk
SUMMARY:Anti Bullying week - Choose Respect (Wear odd socks on Monday 10th November 2025)
DESCRIPTION:Anti Bullying week – Choose Respect (Wear odd socks on Monday 10th November 2025)
URL:https://nutfieldchurchprimary.co.uk/event/anti-bullying-week-choose-respect-wear-odd-socks-all-week-2/
END:VEVENT
BEGIN:VEVENT
DTSTART;VALUE=DATE:20251107
DTEND;VALUE=DATE:20251108
DTSTAMP:20260421T233953
CREATED:20250909T112146Z
LAST-MODIFIED:20250909T112146Z
UID:28228-1762473600-1762559999@nutfieldchurchprimary.co.uk
SUMMARY:Headteachers Tour Date: Friday 7th November 2025 – 1.30-2.30pm
DESCRIPTION:Headteachers Tour Date: Friday 7th November 2025 – 1.30-2.30pm
URL:https://nutfieldchurchprimary.co.uk/event/headteachers-tour-date-friday-7th-november-2025-1-30-2-30pm/
END:VEVENT
BEGIN:VEVENT
DTSTART;VALUE=DATE:20251106
DTEND;VALUE=DATE:20251107
DTSTAMP:20260421T233953
CREATED:20250909T102141Z
LAST-MODIFIED:20250909T102141Z
UID:28092-1762387200-1762473599@nutfieldchurchprimary.co.uk
SUMMARY:Buddy Collective Worship (Yr R and Year 6) 9.05am
DESCRIPTION:Buddy Collective Worship (Yr R and Year 6) 9.05am
URL:https://nutfieldchurchprimary.co.uk/event/buddy-collective-worship-yr-r-and-year-6-9-05am/
END:VEVENT
BEGIN:VEVENT
DTSTART;VALUE=DATE:20251105
DTEND;VALUE=DATE:20251106
DTSTAMP:20260421T233953
CREATED:20250915T073854Z
LAST-MODIFIED:20250915T073854Z
UID:28274-1762300800-1762387199@nutfieldchurchprimary.co.uk
SUMMARY:Year 5 Wellbeing Wednesday
DESCRIPTION:Year 5 Wellbeing Wednesday
URL:https://nutfieldchurchprimary.co.uk/event/year-5-wellbeing-wednesday/
END:VEVENT
BEGIN:VEVENT
DTSTART;VALUE=DATE:20251103
DTEND;VALUE=DATE:20251104
DTSTAMP:20260421T233953
CREATED:20250721T064822Z
LAST-MODIFIED:20250721T064822Z
UID:27587-1762128000-1762214399@nutfieldchurchprimary.co.uk
SUMMARY:Children return to school
DESCRIPTION:Children return to school
URL:https://nutfieldchurchprimary.co.uk/event/children-return-to-school-2/
END:VEVENT
BEGIN:VEVENT
DTSTART;VALUE=DATE:20251027
DTEND;VALUE=DATE:20251101
DTSTAMP:20260421T233953
CREATED:20250721T064756Z
LAST-MODIFIED:20250721T064756Z
UID:27585-1761523200-1761955199@nutfieldchurchprimary.co.uk
SUMMARY:Half Term - School Closed
DESCRIPTION:Half Term – School Closed
URL:https://nutfieldchurchprimary.co.uk/event/half-term-school-closed-2/
END:VEVENT
BEGIN:VEVENT
DTSTART;VALUE=DATE:20251024
DTEND;VALUE=DATE:20251025
DTSTAMP:20260421T233953
CREATED:20250721T064727Z
LAST-MODIFIED:20250721T064727Z
UID:27583-1761264000-1761350399@nutfieldchurchprimary.co.uk
SUMMARY:Last day of term
DESCRIPTION:Last day of term
URL:https://nutfieldchurchprimary.co.uk/event/last-day-of-term-2/
END:VEVENT
END:VCALENDAR