BEGIN:VCALENDAR
VERSION:2.0
PRODID:-//Nutfield Church Primary School - ECPv5.16.4//NONSGML v1.0//EN
CALSCALE:GREGORIAN
METHOD:PUBLISH
X-ORIGINAL-URL:https://nutfieldchurchprimary.co.uk
X-WR-CALDESC:Events for Nutfield Church Primary School
REFRESH-INTERVAL;VALUE=DURATION:PT1H
X-Robots-Tag:noindex
X-PUBLISHED-TTL:PT1H
BEGIN:VTIMEZONE
TZID:UTC
BEGIN:STANDARD
TZOFFSETFROM:+0000
TZOFFSETTO:+0000
TZNAME:UTC
DTSTART:20260101T000000
END:STANDARD
END:VTIMEZONE
BEGIN:VEVENT
DTSTART;VALUE=DATE:20260625
DTEND;VALUE=DATE:20260626
DTSTAMP:20260422T010532
CREATED:20250909T110351Z
LAST-MODIFIED:20250909T110351Z
UID:28192-1782345600-1782431999@nutfieldchurchprimary.co.uk
SUMMARY:Sports Day
DESCRIPTION:Sports Day
URL:https://nutfieldchurchprimary.co.uk/event/sports-day-2/
END:VEVENT
BEGIN:VEVENT
DTSTART;VALUE=DATE:20260701
DTEND;VALUE=DATE:20260702
DTSTAMP:20260422T010532
CREATED:20250909T110439Z
LAST-MODIFIED:20260202T102931Z
UID:28194-1782864000-1782950399@nutfieldchurchprimary.co.uk
SUMMARY:‘Welcome To School’ meeting - 12pm - 3pm
DESCRIPTION:‘Welcome To School’ meeting for 2026-2027 – 12pm – 3pm
URL:https://nutfieldchurchprimary.co.uk/event/welcome-to-school-meeting-12pm-3pm/
END:VEVENT
BEGIN:VEVENT
DTSTART;VALUE=DATE:20260701
DTEND;VALUE=DATE:20260702
DTSTAMP:20260422T010532
CREATED:20250909T110506Z
LAST-MODIFIED:20260202T103141Z
UID:28196-1782864000-1782950399@nutfieldchurchprimary.co.uk
SUMMARY:Transition Day
DESCRIPTION:‘Meet Your New Teacher’ Day
URL:https://nutfieldchurchprimary.co.uk/event/transition-day-2/
END:VEVENT
BEGIN:VEVENT
DTSTART;VALUE=DATE:20260702
DTEND;VALUE=DATE:20260703
DTSTAMP:20260422T010532
CREATED:20250909T110608Z
LAST-MODIFIED:20250909T110608Z
UID:28198-1782950400-1783036799@nutfieldchurchprimary.co.uk
SUMMARY:Reserve Sports Day - 1:15pm - 3:15pm
DESCRIPTION:Reserve Sports Day – 1:15pm – 3:15pm
URL:https://nutfieldchurchprimary.co.uk/event/reserve-sports-day-115pm-315pm/
END:VEVENT
BEGIN:VEVENT
DTSTART;VALUE=DATE:20260703
DTEND;VALUE=DATE:20260704
DTSTAMP:20260422T010532
CREATED:20250909T110638Z
LAST-MODIFIED:20250909T110638Z
UID:28200-1783036800-1783123199@nutfieldchurchprimary.co.uk
SUMMARY:INSET DAY - SCHOOL CLOSED
DESCRIPTION:INSET DAY – SCHOOL CLOSED
URL:https://nutfieldchurchprimary.co.uk/event/inset-day-school-closed-12/
END:VEVENT
BEGIN:VEVENT
DTSTART;VALUE=DATE:20260703
DTEND;VALUE=DATE:20260704
DTSTAMP:20260422T010532
CREATED:20250909T110714Z
LAST-MODIFIED:20250909T110714Z
UID:28202-1783036800-1783123199@nutfieldchurchprimary.co.uk
SUMMARY:Art Exhibition Set Up
DESCRIPTION:Art Exhibition Set Up
URL:https://nutfieldchurchprimary.co.uk/event/art-exhibition-set-up/
END:VEVENT
BEGIN:VEVENT
DTSTART;VALUE=DATE:20260706
DTEND;VALUE=DATE:20260707
DTSTAMP:20260422T010532
CREATED:20250909T110828Z
LAST-MODIFIED:20250909T110828Z
UID:28204-1783296000-1783382399@nutfieldchurchprimary.co.uk
SUMMARY:Art Exhibition Day 1 (1:30pm - 4:15pm)
DESCRIPTION:Art Exhibition Day 1 (1:30pm – 4:15pm)
URL:https://nutfieldchurchprimary.co.uk/event/art-exhibition-day-1-130pm-415pm/
END:VEVENT
BEGIN:VEVENT
DTSTART;VALUE=DATE:20260707
DTEND;VALUE=DATE:20260708
DTSTAMP:20260422T010532
CREATED:20250909T110958Z
LAST-MODIFIED:20250909T110958Z
UID:28206-1783382400-1783468799@nutfieldchurchprimary.co.uk
SUMMARY:Art Exhibition Day 2: (3:15pm - 4:15pm)
DESCRIPTION:Art Exhibition Day 2: (3:15pm – 4:15pm)
URL:https://nutfieldchurchprimary.co.uk/event/art-exhibition-day-2-315pm-415pm/
END:VEVENT
BEGIN:VEVENT
DTSTART;VALUE=DATE:20260707
DTEND;VALUE=DATE:20260708
DTSTAMP:20260422T010532
CREATED:20250909T111036Z
LAST-MODIFIED:20250909T111036Z
UID:28208-1783382400-1783468799@nutfieldchurchprimary.co.uk
SUMMARY:Open Evening: (3:15pm - 4:15pm)
DESCRIPTION:Open Evening: (3:15pm – 4:15pm)
URL:https://nutfieldchurchprimary.co.uk/event/open-evening-315pm-415pm/
END:VEVENT
BEGIN:VEVENT
DTSTART;VALUE=DATE:20260709
DTEND;VALUE=DATE:20260710
DTSTAMP:20260422T010532
CREATED:20250909T111108Z
LAST-MODIFIED:20250909T111108Z
UID:28210-1783555200-1783641599@nutfieldchurchprimary.co.uk
SUMMARY:Summer Concert: 6pm - 7pm
DESCRIPTION:Summer Concert: 6pm – 7pm
URL:https://nutfieldchurchprimary.co.uk/event/summer-concert-6pm-7pm/
END:VEVENT
BEGIN:VEVENT
DTSTART;VALUE=DATE:20260710
DTEND;VALUE=DATE:20260711
DTSTAMP:20260422T010532
CREATED:20260206T090203Z
LAST-MODIFIED:20260206T090203Z
UID:30382-1783641600-1783727999@nutfieldchurchprimary.co.uk
SUMMARY:PTFA Year R Cake Sale - 3.15pm-3.45pm
DESCRIPTION:PTFA Year R Cake Sale – 3.15pm-3.45pm
URL:https://nutfieldchurchprimary.co.uk/event/ptfa-year-r-cake-sale-3-15pm-3-45pm/
END:VEVENT
BEGIN:VEVENT
DTSTART;VALUE=DATE:20260713
DTEND;VALUE=DATE:20260714
DTSTAMP:20260422T010532
CREATED:20250909T111153Z
LAST-MODIFIED:20250909T111153Z
UID:28212-1783900800-1783987199@nutfieldchurchprimary.co.uk
SUMMARY:Year 6 Production – dress rehearsal: 2pm - 3pm
DESCRIPTION:Year 6 Production – dress rehearsal: 2pm – 3pm
URL:https://nutfieldchurchprimary.co.uk/event/year-6-production-dress-rehearsal-2pm-3pm-2/
END:VEVENT
BEGIN:VEVENT
DTSTART;VALUE=DATE:20260714
DTEND;VALUE=DATE:20260715
DTSTAMP:20260422T010532
CREATED:20250909T111249Z
LAST-MODIFIED:20250909T111249Z
UID:28214-1783987200-1784073599@nutfieldchurchprimary.co.uk
SUMMARY:Year 6 Production – Show Night 1: 6pm - 7pm
DESCRIPTION:Year 6 Production – Show Night 1: 6pm – 7pm
URL:https://nutfieldchurchprimary.co.uk/event/year-6-production-show-night-1-6pm-7pm/
END:VEVENT
BEGIN:VEVENT
DTSTART;VALUE=DATE:20260715
DTEND;VALUE=DATE:20260716
DTSTAMP:20260422T010532
CREATED:20250909T111314Z
LAST-MODIFIED:20250909T111314Z
UID:28216-1784073600-1784159999@nutfieldchurchprimary.co.uk
SUMMARY:Year 6 Production – Show Night 2: 6pm - 7pm
DESCRIPTION:Year 6 Production – Show Night 2: 6pm – 7pm
URL:https://nutfieldchurchprimary.co.uk/event/year-6-production-show-night-2-6pm-7pm/
END:VEVENT
BEGIN:VEVENT
DTSTART;VALUE=DATE:20260717
DTEND;VALUE=DATE:20260718
DTSTAMP:20260422T010532
CREATED:20250909T111349Z
LAST-MODIFIED:20250909T111349Z
UID:28218-1784246400-1784332799@nutfieldchurchprimary.co.uk
SUMMARY:Leavers’ Service Christchurch - 9:30am
DESCRIPTION:Leavers’ Service Christchurch – 9:30am
URL:https://nutfieldchurchprimary.co.uk/event/leavers-service-christchurch-930am/
END:VEVENT
END:VCALENDAR