BEGIN:VCALENDAR
VERSION:2.0
PRODID:-//Nutfield Church Primary School - ECPv5.16.4//NONSGML v1.0//EN
CALSCALE:GREGORIAN
METHOD:PUBLISH
X-ORIGINAL-URL:https://nutfieldchurchprimary.co.uk
X-WR-CALDESC:Events for Nutfield Church Primary School
REFRESH-INTERVAL;VALUE=DURATION:PT1H
X-Robots-Tag:noindex
X-PUBLISHED-TTL:PT1H
BEGIN:VTIMEZONE
TZID:UTC
BEGIN:STANDARD
TZOFFSETFROM:+0000
TZOFFSETTO:+0000
TZNAME:UTC
DTSTART:20240101T000000
END:STANDARD
END:VTIMEZONE
BEGIN:VEVENT
DTSTART;VALUE=DATE:20240301
DTEND;VALUE=DATE:20240302
DTSTAMP:20260424T082531
CREATED:20231023T081644Z
LAST-MODIFIED:20231023T081644Z
UID:16411-1709251200-1709337599@nutfieldchurchprimary.co.uk
SUMMARY:St. David’s Day – yellow shirt Friday 1st March
DESCRIPTION:St. David’s Day – yellow shirt Friday 1st March
URL:https://nutfieldchurchprimary.co.uk/event/st-davids-day-yellow-shirt-friday-1st-march/
END:VEVENT
BEGIN:VEVENT
DTSTART;VALUE=DATE:20240304
DTEND;VALUE=DATE:20240305
DTSTAMP:20260424T082531
CREATED:20231023T081701Z
LAST-MODIFIED:20231023T081701Z
UID:16413-1709510400-1709596799@nutfieldchurchprimary.co.uk
SUMMARY:Year 3 - Swimming Monday 4th March – Friday 15th March
DESCRIPTION:Year 3 – Swimming Monday 4th March – Friday 15th March
URL:https://nutfieldchurchprimary.co.uk/event/year-3-swimming-monday-4th-march-friday-15th-march/
END:VEVENT
BEGIN:VEVENT
DTSTART;VALUE=DATE:20240306
DTEND;VALUE=DATE:20240307
DTSTAMP:20260424T082531
CREATED:20231023T081718Z
LAST-MODIFIED:20231023T081718Z
UID:16415-1709683200-1709769599@nutfieldchurchprimary.co.uk
SUMMARY:Year 5 Collective Worship Wednesday 6th March – 9.05am
DESCRIPTION:Year 5 Collective Worship Wednesday 6th March – 9.05am
URL:https://nutfieldchurchprimary.co.uk/event/year-5-collective-worship-wednesday-6th-march-9-05am/
END:VEVENT
BEGIN:VEVENT
DTSTART;VALUE=DATE:20240306
DTEND;VALUE=DATE:20240307
DTSTAMP:20260424T082531
CREATED:20240115T114034Z
LAST-MODIFIED:20240115T114034Z
UID:17702-1709683200-1709769599@nutfieldchurchprimary.co.uk
SUMMARY:Wellbeing Wednesday (Yr 6)
DESCRIPTION:Wellbeing Wednesday (Yr 6)
URL:https://nutfieldchurchprimary.co.uk/event/wellbeing-wednesday-yr-6-2/
END:VEVENT
BEGIN:VEVENT
DTSTART;VALUE=DATE:20240308
DTEND;VALUE=DATE:20240309
DTSTAMP:20260424T082531
CREATED:20231023T081733Z
LAST-MODIFIED:20231023T081733Z
UID:16417-1709856000-1709942399@nutfieldchurchprimary.co.uk
SUMMARY:Springs Dance Company (Yr 5) Friday 8th March – 9.00am-3.00pm
DESCRIPTION:Springs Dance Company (Yr 5) Friday 8th March – 9.00am-3.00pm
URL:https://nutfieldchurchprimary.co.uk/event/springs-dance-company-yr-5-friday-8th-march-9-00am-3-00pm/
END:VEVENT
BEGIN:VEVENT
DTSTART;VALUE=DATE:20240313
DTEND;VALUE=DATE:20240314
DTSTAMP:20260424T082531
CREATED:20231023T081751Z
LAST-MODIFIED:20231023T081751Z
UID:16419-1710288000-1710374399@nutfieldchurchprimary.co.uk
SUMMARY:Year 2 Collective Worship Wednesday 13th March – 9.05am
DESCRIPTION:Year 2 Collective Worship Wednesday 13th March – 9.05am
URL:https://nutfieldchurchprimary.co.uk/event/year-2-collective-worship-wednesday-13th-march-9-05am/
END:VEVENT
BEGIN:VEVENT
DTSTART;VALUE=DATE:20240313
DTEND;VALUE=DATE:20240314
DTSTAMP:20260424T082531
CREATED:20240115T114137Z
LAST-MODIFIED:20240115T114137Z
UID:17704-1710288000-1710374399@nutfieldchurchprimary.co.uk
SUMMARY:Wellbeing Wednesday (Yr 1)
DESCRIPTION:Wellbeing Wednesday (Yr 1)
URL:https://nutfieldchurchprimary.co.uk/event/wellbeing-wednesday-yr-1/
END:VEVENT
BEGIN:VEVENT
DTSTART;VALUE=DATE:20240314
DTEND;VALUE=DATE:20240315
DTSTAMP:20260424T082531
CREATED:20240226T121915Z
LAST-MODIFIED:20240226T121915Z
UID:18557-1710374400-1710460799@nutfieldchurchprimary.co.uk
SUMMARY:Year R Height\, Weight\, Vision and Hearing Screening Thursday 14th March
DESCRIPTION:Year R Height\, Weight\, Vision and Hearing Screening Thursday 14th March
URL:https://nutfieldchurchprimary.co.uk/event/year-r-height-weight-vision-and-hearing-screening-thursday-14th-march/
END:VEVENT
BEGIN:VEVENT
DTSTART;VALUE=DATE:20240315
DTEND;VALUE=DATE:20240316
DTSTAMP:20260424T082531
CREATED:20231023T081808Z
LAST-MODIFIED:20231023T081808Z
UID:16421-1710460800-1710547199@nutfieldchurchprimary.co.uk
SUMMARY:PTFA Year 4 Cake Sale Friday 15th March – 15.15pm-15.45pm
DESCRIPTION:PTFA Year 4 Cake Sale Friday 15th March – 15.15pm-15.45pm
URL:https://nutfieldchurchprimary.co.uk/event/ptfa-year-4-cake-sale-friday-15th-march-15-15pm-15-45pm/
END:VEVENT
BEGIN:VEVENT
DTSTART;VALUE=DATE:20240318
DTEND;VALUE=DATE:20240319
DTSTAMP:20260424T082531
CREATED:20231023T081834Z
LAST-MODIFIED:20231023T081834Z
UID:16423-1710720000-1710806399@nutfieldchurchprimary.co.uk
SUMMARY:St. Patrick’s Day – green shirt Monday 18th March (Sunday 17th March)
DESCRIPTION:St. Patrick’s Day – green shirt Monday 18th March (Sunday 17th March)
URL:https://nutfieldchurchprimary.co.uk/event/st-patricks-day-green-shirt-monday-18th-march-sunday-17th-march/
END:VEVENT
BEGIN:VEVENT
DTSTART;VALUE=DATE:20240318
DTEND;VALUE=DATE:20240319
DTSTAMP:20260424T082531
CREATED:20231023T081851Z
LAST-MODIFIED:20231023T081851Z
UID:16425-1710720000-1710806399@nutfieldchurchprimary.co.uk
SUMMARY:SSA Parent and Carer Evenings W/C 18th March
DESCRIPTION:SSA Parent and Carer Evenings W/C 18th March
URL:https://nutfieldchurchprimary.co.uk/event/ssa-parent-and-carer-evenings-w-c-18th-march/
END:VEVENT
BEGIN:VEVENT
DTSTART;VALUE=DATE:20240320
DTEND;VALUE=DATE:20240321
DTSTAMP:20260424T082531
CREATED:20240115T114211Z
LAST-MODIFIED:20240115T114211Z
UID:17706-1710892800-1710979199@nutfieldchurchprimary.co.uk
SUMMARY:Wellbeing Wednesday (Yr 2)
DESCRIPTION:Wellbeing Wednesday (Yr 2)
URL:https://nutfieldchurchprimary.co.uk/event/wellbeing-wednesday-yr-2/
END:VEVENT
BEGIN:VEVENT
DTSTART;VALUE=DATE:20240321
DTEND;VALUE=DATE:20240322
DTSTAMP:20260424T082531
CREATED:20231023T081908Z
LAST-MODIFIED:20231023T081908Z
UID:16427-1710979200-1711065599@nutfieldchurchprimary.co.uk
SUMMARY:Easter Concert Thursday 21st March 6.00pm-7.00pm
DESCRIPTION:Easter Concert Thursday 21st March 6.00pm-7.00pm
URL:https://nutfieldchurchprimary.co.uk/event/easter-concert-thursday-21st-march-6-00pm-7-00pm/
END:VEVENT
BEGIN:VEVENT
DTSTART;VALUE=DATE:20240325
DTEND;VALUE=DATE:20240326
DTSTAMP:20260424T082531
CREATED:20231023T081926Z
LAST-MODIFIED:20231023T081926Z
UID:16429-1711324800-1711411199@nutfieldchurchprimary.co.uk
SUMMARY:Parent and Carer Evening Monday 25th March -3.30pm - 6.00pm
DESCRIPTION:Parent and Carer Evening Monday 25th March -3.30pm – 6.00pm
URL:https://nutfieldchurchprimary.co.uk/event/parent-and-carer-evening-monday-25th-march-3-30pm-6-00pm/
END:VEVENT
BEGIN:VEVENT
DTSTART;VALUE=DATE:20240326
DTEND;VALUE=DATE:20240327
DTSTAMP:20260424T082531
CREATED:20231023T081942Z
LAST-MODIFIED:20231023T081942Z
UID:16431-1711411200-1711497599@nutfieldchurchprimary.co.uk
SUMMARY:Parent and Carer Evening Tuesday 26th March -3.30pm - 6.00pm
DESCRIPTION:Parent and Carer Evening Tuesday 26th March -3.30pm – 6.00pm
URL:https://nutfieldchurchprimary.co.uk/event/parent-and-carer-evening-tuesday-26th-march-3-30pm-6-00pm/
END:VEVENT
BEGIN:VEVENT
DTSTART;VALUE=DATE:20240327
DTEND;VALUE=DATE:20240328
DTSTAMP:20260424T082531
CREATED:20231023T081958Z
LAST-MODIFIED:20231023T081958Z
UID:16433-1711497600-1711583999@nutfieldchurchprimary.co.uk
SUMMARY:Parent and Carer Evening Wednesday 27th March -3.30pm - 6.00pm
DESCRIPTION:Parent and Carer Evening Wednesday 27th March -3.30pm – 6.00pm
URL:https://nutfieldchurchprimary.co.uk/event/parent-and-carer-evening-wednesday-27th-march-3-30pm-6-00pm/
END:VEVENT
BEGIN:VEVENT
DTSTART;VALUE=DATE:20240328
DTEND;VALUE=DATE:20240329
DTSTAMP:20260424T082531
CREATED:20231023T082018Z
LAST-MODIFIED:20231023T082018Z
UID:16435-1711584000-1711670399@nutfieldchurchprimary.co.uk
SUMMARY:Easter Service Christ Church Thursday 28th March – 9.30am
DESCRIPTION:Easter Service Christ Church Thursday 28th March – 9.30am
URL:https://nutfieldchurchprimary.co.uk/event/easter-service-christ-church-thursday-28th-march-9-30am/
END:VEVENT
BEGIN:VEVENT
DTSTART;VALUE=DATE:20240328
DTEND;VALUE=DATE:20240329
DTSTAMP:20260424T082531
CREATED:20231023T082034Z
LAST-MODIFIED:20231023T082034Z
UID:16437-1711584000-1711670399@nutfieldchurchprimary.co.uk
SUMMARY:PTFA Easter Egg Hunt Thursday 28th March – 15.15pm-16.00pm
DESCRIPTION:PTFA Easter Egg Hunt Thursday 28th March – 15.15pm-16.00pm
URL:https://nutfieldchurchprimary.co.uk/event/ptfa-easter-egg-hunt-thursday-28th-march-15-15pm-16-00pm/
END:VEVENT
END:VCALENDAR