BEGIN:VCALENDAR
VERSION:2.0
PRODID:-//Nutfield Church Primary School - ECPv5.16.4//NONSGML v1.0//EN
CALSCALE:GREGORIAN
METHOD:PUBLISH
X-WR-CALNAME:Nutfield Church Primary School
X-ORIGINAL-URL:https://nutfieldchurchprimary.co.uk
X-WR-CALDESC:Events for Nutfield Church Primary School
REFRESH-INTERVAL;VALUE=DURATION:PT1H
X-Robots-Tag:noindex
X-PUBLISHED-TTL:PT1H
BEGIN:VTIMEZONE
TZID:UTC
BEGIN:STANDARD
TZOFFSETFROM:+0000
TZOFFSETTO:+0000
TZNAME:UTC
DTSTART:20240101T000000
END:STANDARD
END:VTIMEZONE
BEGIN:VEVENT
DTSTART;VALUE=DATE:20241002
DTEND;VALUE=DATE:20241003
DTSTAMP:20260422T101218
CREATED:20240715T101733Z
LAST-MODIFIED:20240715T101733Z
UID:21402-1727827200-1727913599@nutfieldchurchprimary.co.uk
SUMMARY:Wellbeing Wednesday Yr 3
DESCRIPTION:Wellbeing Wednesday Yr 3
URL:https://nutfieldchurchprimary.co.uk/event/wellbeing-wednesday-yr-3-4/
END:VEVENT
BEGIN:VEVENT
DTSTART;VALUE=DATE:20241009
DTEND;VALUE=DATE:20241010
DTSTAMP:20260422T101218
CREATED:20240715T101752Z
LAST-MODIFIED:20240715T101752Z
UID:21404-1728432000-1728518399@nutfieldchurchprimary.co.uk
SUMMARY:Wellbeing Wednesday Yr 2
DESCRIPTION:Wellbeing Wednesday Yr 2
URL:https://nutfieldchurchprimary.co.uk/event/wellbeing-wednesday-yr-2-3/
END:VEVENT
BEGIN:VEVENT
DTSTART;VALUE=DATE:20241016
DTEND;VALUE=DATE:20241017
DTSTAMP:20260422T101218
CREATED:20240715T101809Z
LAST-MODIFIED:20240715T101809Z
UID:21406-1729036800-1729123199@nutfieldchurchprimary.co.uk
SUMMARY:Wellbeing Wednesday Yr 1
DESCRIPTION:Wellbeing Wednesday Yr 1
URL:https://nutfieldchurchprimary.co.uk/event/wellbeing-wednesday-yr-1-3/
END:VEVENT
BEGIN:VEVENT
DTSTART;VALUE=DATE:20241017
DTEND;VALUE=DATE:20241018
DTSTAMP:20260422T101218
CREATED:20240715T101839Z
LAST-MODIFIED:20240715T101839Z
UID:21408-1729123200-1729209599@nutfieldchurchprimary.co.uk
SUMMARY:Harvest Service at Christ Church: Thursday 17th October - 9.30am
DESCRIPTION:Harvest Service at Christ Church: Thursday 17th October – 9.30am
URL:https://nutfieldchurchprimary.co.uk/event/harvest-service-at-christ-church-thursday-17th-october-9-30am/
END:VEVENT
BEGIN:VEVENT
DTSTART;VALUE=DATE:20241021
DTEND;VALUE=DATE:20241022
DTSTAMP:20260422T101218
CREATED:20240715T101919Z
LAST-MODIFIED:20240715T101919Z
UID:21410-1729468800-1729555199@nutfieldchurchprimary.co.uk
SUMMARY:Whole School Nasal Flu Vaccination: Monday 21st October – 9.00am-11.30am - Hall
DESCRIPTION:Whole School Nasal Flu Vaccination: Monday 21st October – 9.00am-11.30am – Hall
URL:https://nutfieldchurchprimary.co.uk/event/whole-school-nasal-flu-vaccination-monday-21st-october-9-00am-11-30am-hall/
END:VEVENT
BEGIN:VEVENT
DTSTART;VALUE=DATE:20241023
DTEND;VALUE=DATE:20241024
DTSTAMP:20260422T101218
CREATED:20240715T101936Z
LAST-MODIFIED:20241017T115451Z
UID:21412-1729641600-1729727999@nutfieldchurchprimary.co.uk
SUMMARY:Wellbeing Wednesday Yr 3
DESCRIPTION:Wellbeing Wednesday Yr 3
URL:https://nutfieldchurchprimary.co.uk/event/wellbeing-wednesday-yr-r-6/
END:VEVENT
BEGIN:VEVENT
DTSTART;VALUE=DATE:20241025
DTEND;VALUE=DATE:20241026
DTSTAMP:20260422T101218
CREATED:20240715T102009Z
LAST-MODIFIED:20240715T102009Z
UID:21414-1729814400-1729900799@nutfieldchurchprimary.co.uk
SUMMARY:INSET Day: SCHOOL CLOSED
DESCRIPTION:INSET Day: SCHOOL CLOSED
URL:https://nutfieldchurchprimary.co.uk/event/inset-day-school-closed-7/
END:VEVENT
END:VCALENDAR