BEGIN:VCALENDAR
VERSION:2.0
PRODID:-//Nutfield Church Primary School - ECPv5.16.4//NONSGML v1.0//EN
CALSCALE:GREGORIAN
METHOD:PUBLISH
X-WR-CALNAME:Nutfield Church Primary School
X-ORIGINAL-URL:https://nutfieldchurchprimary.co.uk
X-WR-CALDESC:Events for Nutfield Church Primary School
REFRESH-INTERVAL;VALUE=DURATION:PT1H
X-Robots-Tag:noindex
X-PUBLISHED-TTL:PT1H
BEGIN:VTIMEZONE
TZID:UTC
BEGIN:STANDARD
TZOFFSETFROM:+0000
TZOFFSETTO:+0000
TZNAME:UTC
DTSTART:20250101T000000
END:STANDARD
END:VTIMEZONE
BEGIN:VEVENT
DTSTART;VALUE=DATE:20250106
DTEND;VALUE=DATE:20250107
DTSTAMP:20260422T052549
CREATED:20241216T113637Z
LAST-MODIFIED:20241216T113637Z
UID:23614-1736121600-1736207999@nutfieldchurchprimary.co.uk
SUMMARY:Start of Spring term  (all children in school)
DESCRIPTION:Start of Spring term (all children in school)
URL:https://nutfieldchurchprimary.co.uk/event/start-of-spring-term-all-children-in-school/
END:VEVENT
BEGIN:VEVENT
DTSTART;VALUE=DATE:20250115
DTEND;VALUE=DATE:20250116
DTSTAMP:20260422T052549
CREATED:20241118T132853Z
LAST-MODIFIED:20241118T132853Z
UID:22753-1736899200-1736985599@nutfieldchurchprimary.co.uk
SUMMARY:Wellbeing Wednesday Yr 6
DESCRIPTION:Wellbeing Wednesday Yr 6
URL:https://nutfieldchurchprimary.co.uk/event/wellbeing-wednesday-yr-6-6/
END:VEVENT
BEGIN:VEVENT
DTSTART;VALUE=DATE:20250120
DTEND;VALUE=DATE:20250121
DTSTAMP:20260422T052549
CREATED:20241216T104438Z
LAST-MODIFIED:20241216T104438Z
UID:23535-1737331200-1737417599@nutfieldchurchprimary.co.uk
SUMMARY:Stone Age Day
DESCRIPTION:Stone Age Day
URL:https://nutfieldchurchprimary.co.uk/event/stone-age-day/
END:VEVENT
BEGIN:VEVENT
DTSTART;VALUE=DATE:20250122
DTEND;VALUE=DATE:20250123
DTSTAMP:20260422T052549
CREATED:20241118T132954Z
LAST-MODIFIED:20241118T132954Z
UID:22755-1737504000-1737590399@nutfieldchurchprimary.co.uk
SUMMARY:Year 6 Collective Worship – 9.05am
DESCRIPTION:Year 6 Collective Worship Wednesday 22nd January – 9.05am
URL:https://nutfieldchurchprimary.co.uk/event/year-6-collective-worship-9-05am/
END:VEVENT
BEGIN:VEVENT
DTSTART;VALUE=DATE:20250122
DTEND;VALUE=DATE:20250123
DTSTAMP:20260422T052549
CREATED:20241118T133014Z
LAST-MODIFIED:20241118T133014Z
UID:22757-1737504000-1737590399@nutfieldchurchprimary.co.uk
SUMMARY:Wellbeing Wednesday Yr 5
DESCRIPTION:Wellbeing Wednesday Yr 5
URL:https://nutfieldchurchprimary.co.uk/event/wellbeing-wednesday-yr-5-6/
END:VEVENT
BEGIN:VEVENT
DTSTART;VALUE=DATE:20250124
DTEND;VALUE=DATE:20250125
DTSTAMP:20260422T052549
CREATED:20241118T133045Z
LAST-MODIFIED:20241118T133045Z
UID:22759-1737676800-1737763199@nutfieldchurchprimary.co.uk
SUMMARY:PTFA Cinema Night – 3.15pm-5.15pm
DESCRIPTION:PTFA Cinema Night Friday 24th January – 3.15pm-5.15pm
URL:https://nutfieldchurchprimary.co.uk/event/ptfa-cinema-night-3-15pm-5-15pm/
END:VEVENT
BEGIN:VEVENT
DTSTART;VALUE=DATE:20250128
DTEND;VALUE=DATE:20250129
DTSTAMP:20260422T052549
CREATED:20241216T104510Z
LAST-MODIFIED:20241216T104510Z
UID:23537-1738022400-1738108799@nutfieldchurchprimary.co.uk
SUMMARY:Year 5 Pizza Express visit
DESCRIPTION:Year 5 Pizza Express visit
URL:https://nutfieldchurchprimary.co.uk/event/year-5-pizza-express-visit/
END:VEVENT
BEGIN:VEVENT
DTSTART;VALUE=DATE:20250129
DTEND;VALUE=DATE:20250130
DTSTAMP:20260422T052549
CREATED:20241118T133114Z
LAST-MODIFIED:20241118T133114Z
UID:22761-1738108800-1738195199@nutfieldchurchprimary.co.uk
SUMMARY:Year 3 Collective Worship - 9:05am
DESCRIPTION:Year 3 Collective Worship
URL:https://nutfieldchurchprimary.co.uk/event/year-3-collective-worship-905am/
END:VEVENT
BEGIN:VEVENT
DTSTART;VALUE=DATE:20250129
DTEND;VALUE=DATE:20250130
DTSTAMP:20260422T052549
CREATED:20241118T133136Z
LAST-MODIFIED:20241118T133136Z
UID:22763-1738108800-1738195199@nutfieldchurchprimary.co.uk
SUMMARY:Wellbeing Wednesday Yr 4
DESCRIPTION:Wellbeing Wednesday Yr 4
URL:https://nutfieldchurchprimary.co.uk/event/wellbeing-wednesday-yr-4-6/
END:VEVENT
BEGIN:VEVENT
DTSTART;VALUE=DATE:20250130
DTEND;VALUE=DATE:20250131
DTSTAMP:20260422T052549
CREATED:20241118T133152Z
LAST-MODIFIED:20241118T133152Z
UID:22765-1738195200-1738281599@nutfieldchurchprimary.co.uk
SUMMARY:Happy School Bag Collection
DESCRIPTION:Happy School Bag Collection
URL:https://nutfieldchurchprimary.co.uk/event/happy-school-bag-collection/
END:VEVENT
BEGIN:VEVENT
DTSTART;VALUE=DATE:20250130
DTEND;VALUE=DATE:20250131
DTSTAMP:20260422T052549
CREATED:20241216T104530Z
LAST-MODIFIED:20241216T104530Z
UID:23539-1738195200-1738281599@nutfieldchurchprimary.co.uk
SUMMARY:Year R & Year 5 Wonderdome Visit
DESCRIPTION:Year R & Year 5 Wonderdome Visit
URL:https://nutfieldchurchprimary.co.uk/event/year-r-year-5-wonderdome-visit/
END:VEVENT
END:VCALENDAR