BEGIN:VCALENDAR
VERSION:2.0
PRODID:-//Nutfield Church Primary School - ECPv5.16.4//NONSGML v1.0//EN
CALSCALE:GREGORIAN
METHOD:PUBLISH
X-WR-CALNAME:Nutfield Church Primary School
X-ORIGINAL-URL:https://nutfieldchurchprimary.co.uk
X-WR-CALDESC:Events for Nutfield Church Primary School
REFRESH-INTERVAL;VALUE=DURATION:PT1H
X-Robots-Tag:noindex
X-PUBLISHED-TTL:PT1H
BEGIN:VTIMEZONE
TZID:UTC
BEGIN:STANDARD
TZOFFSETFROM:+0000
TZOFFSETTO:+0000
TZNAME:UTC
DTSTART:20250101T000000
END:STANDARD
END:VTIMEZONE
BEGIN:VEVENT
DTSTART;VALUE=DATE:20250506
DTEND;VALUE=DATE:20250507
DTSTAMP:20260421T231254
CREATED:20241216T104617Z
LAST-MODIFIED:20241216T104617Z
UID:23543-1746489600-1746575999@nutfieldchurchprimary.co.uk
SUMMARY:Year R Mobile Zoo Visit
DESCRIPTION:Year R Mobile Zoo Visit
URL:https://nutfieldchurchprimary.co.uk/event/year-r-mobile-zoo-visit/
END:VEVENT
BEGIN:VEVENT
DTSTART;VALUE=DATE:20250506
DTEND;VALUE=DATE:20250507
DTSTAMP:20260421T231254
CREATED:20250429T124512Z
LAST-MODIFIED:20250429T124512Z
UID:25660-1746489600-1746575999@nutfieldchurchprimary.co.uk
SUMMARY:Year 1 visit to Sutton & District United Synagogue
DESCRIPTION:Year 1 visit to Sutton & District United Synagogue
URL:https://nutfieldchurchprimary.co.uk/event/year-1-visit-to-sutton-district-united-synagogue/
END:VEVENT
BEGIN:VEVENT
DTSTART;VALUE=DATE:20250507
DTEND;VALUE=DATE:20250508
DTSTAMP:20260421T231254
CREATED:20241118T135849Z
LAST-MODIFIED:20250429T114903Z
UID:22839-1746576000-1746662399@nutfieldchurchprimary.co.uk
SUMMARY:Wellbeing Wednesday Yr 4
DESCRIPTION:Wellbeing Wednesday Yr 4
URL:https://nutfieldchurchprimary.co.uk/event/wellbeing-wednesday-yr-r-9/
END:VEVENT
BEGIN:VEVENT
DTSTART;VALUE=DATE:20250508
DTEND;VALUE=DATE:20250509
DTSTAMP:20260421T231254
CREATED:20241118T135904Z
LAST-MODIFIED:20241118T135904Z
UID:22841-1746662400-1746748799@nutfieldchurchprimary.co.uk
SUMMARY:Happy School Bag Collection
DESCRIPTION:Happy School Bag Collection
URL:https://nutfieldchurchprimary.co.uk/event/happy-school-bag-collection-2/
END:VEVENT
BEGIN:VEVENT
DTSTART;VALUE=DATE:20250509
DTEND;VALUE=DATE:20250510
DTSTAMP:20260421T231254
CREATED:20241216T104641Z
LAST-MODIFIED:20241216T104641Z
UID:23545-1746748800-1746835199@nutfieldchurchprimary.co.uk
SUMMARY:School Photographs - Groups
DESCRIPTION:School Photographs – Groups
URL:https://nutfieldchurchprimary.co.uk/event/school-photographs-groups/
END:VEVENT
BEGIN:VEVENT
DTSTART;VALUE=DATE:20250514
DTEND;VALUE=DATE:20250515
DTSTAMP:20260421T231254
CREATED:20250429T113303Z
LAST-MODIFIED:20250429T113313Z
UID:25636-1747180800-1747267199@nutfieldchurchprimary.co.uk
SUMMARY:Wellbeing Wednesday Yr 5
DESCRIPTION:Wellbeing Wednesday Yr  5
URL:https://nutfieldchurchprimary.co.uk/event/wellbeing-wednesday-yr-7/
END:VEVENT
BEGIN:VEVENT
DTSTART;VALUE=DATE:20250519
DTEND;VALUE=DATE:20250520
DTSTAMP:20260421T231254
CREATED:20250429T113459Z
LAST-MODIFIED:20250429T113459Z
UID:25639-1747612800-1747699199@nutfieldchurchprimary.co.uk
SUMMARY:Year 1 Victorian Day (Dress up day)
DESCRIPTION:Year 1 Victorian Day (Dress up day)
URL:https://nutfieldchurchprimary.co.uk/event/year-1-victorian-day-dress-up-day/
END:VEVENT
BEGIN:VEVENT
DTSTART;VALUE=DATE:20250521
DTEND;VALUE=DATE:20250522
DTSTAMP:20260421T231254
CREATED:20241118T140015Z
LAST-MODIFIED:20241118T140015Z
UID:22847-1747785600-1747871999@nutfieldchurchprimary.co.uk
SUMMARY:Year 1 Collective Worship - 9:05am
DESCRIPTION:Year 1 Collective Worship – 9:05am
URL:https://nutfieldchurchprimary.co.uk/event/year-1-collective-worship-905am/
END:VEVENT
BEGIN:VEVENT
DTSTART;VALUE=DATE:20250521
DTEND;VALUE=DATE:20250522
DTSTAMP:20260421T231254
CREATED:20250429T113546Z
LAST-MODIFIED:20250429T114920Z
UID:25641-1747785600-1747871999@nutfieldchurchprimary.co.uk
SUMMARY:Wellbeing Wednesday Yr 6
DESCRIPTION:Wellbeing Wednesday Yr 6
URL:https://nutfieldchurchprimary.co.uk/event/wellbeing-wednesday-yr-4-9/
END:VEVENT
BEGIN:VEVENT
DTSTART;VALUE=DATE:20250522
DTEND;VALUE=DATE:20250523
DTSTAMP:20260421T231254
CREATED:20241118T135929Z
LAST-MODIFIED:20241118T135929Z
UID:22843-1747872000-1747958399@nutfieldchurchprimary.co.uk
SUMMARY:PTFA Year 2 Cake Sale	Thursday 22nd May – 15.15pm-15.45pm
DESCRIPTION:PTFA Year 2 Cake Sale\nThursday 22nd May – 15.15pm-15.45pm
URL:https://nutfieldchurchprimary.co.uk/event/ptfa-year-2-cake-salethursday-22nd-may-15-15pm-15-45pm/
END:VEVENT
END:VCALENDAR